BEGIN:VCALENDAR
PRODID:NingEventWidget-v1
VERSION:2.0
METHOD:PUBLISH
BEGIN:VTIMEZONE
TZID:Europe/London
X-LIC-LOCATION:Europe/London
BEGIN:DAYLIGHT
TZOFFSETFROM:+0000
TZOFFSETTO:+0100
TZNAME:BST
DTSTART:19700329T010000
RRULE:FREQ=YEARLY;BYMONTH=3;BYDAY=-1SU
END:DAYLIGHT
BEGIN:STANDARD
TZOFFSETFROM:+0100
TZOFFSETTO:+0000
TZNAME:GMT
DTSTART:19701025T020000
RRULE:FREQ=YEARLY;BYMONTH=10;BYDAY=-1SU
END:STANDARD
END:VTIMEZONE
BEGIN:VEVENT
UID:4626108:Event:542543
DTSTAMP:20260422T222130Z
SUMMARY:FREE Givers Gain Breakfast, Wallington
DESCRIPTION:Givers Gain Social Networking Breakfast and Evening Event 
 at The Dukes Head Hotel, Wallington SM6 9BU - All Welcome!\nGivers Ga
 in is a Social Networking Group. Using Givers Gain is like having doz
 ens of professional people working for you because everyone is looking
  out for your interests. \nPlease join us\nWe strongly believe that n
 etworking is a valuable tool for anyone wanting to succeed in business
 . It can give you new ideas and introduce you to future business oppo
 rtunities. \nThe organizer's phone number is  07967 555937.\nCOST: M
 eeting fee £15:00 including breakfast (Visitors' first meeting is FR
 EE!) \nBOOKING: Please CLICK HERE to contact us via the Givers Gain w
 ebsite to come along as a Visitor, or call Michael on 07967 555937.\n
 MAP\n\nFor more information visit https://networkinginsurrey.co.uk/eve
 nts/free-givers-gain-breakfast-wallington-925
DTSTART;TZID=Europe/London:20240718T070000
DTEND;TZID=Europe/London:20240718T083000
CATEGORIES:breakfast, wallington, networking, business, opportunities
LOCATION:The Duke's Head SM6 0AA
WEBSITE:http://www.giversgain.uk.com
URL:http://www.giversgain.uk.com
CONTACT:07967 555937
ORGANIZER:Michael de Lemos - Michael.delemos@hotmail.co.uk
ATTACH;FMTTYPE="image/jpeg":http://storage.ning.com/topology/rest/1.0/
 file/get/2470849404?profile=original
ATTENDEE;ROLE=REQ-PARTICIPANT;PARTSTAT=ACCEPTED;RSVP=TRUE;CN="Michael 
 de Lemos":https://networkinginsurrey.co.uk/profile/MichaeldeLemos
END:VEVENT
END:VCALENDAR
