BEGIN:VCALENDAR
PRODID:NingEventWidget-v1
VERSION:2.0
METHOD:PUBLISH
BEGIN:VTIMEZONE
TZID:Europe/London
X-LIC-LOCATION:Europe/London
BEGIN:DAYLIGHT
TZOFFSETFROM:+0000
TZOFFSETTO:+0100
TZNAME:BST
DTSTART:19700329T010000
RRULE:FREQ=YEARLY;BYMONTH=3;BYDAY=-1SU
END:DAYLIGHT
BEGIN:STANDARD
TZOFFSETFROM:+0100
TZOFFSETTO:+0000
TZNAME:GMT
DTSTART:19701025T020000
RRULE:FREQ=YEARLY;BYMONTH=10;BYDAY=-1SU
END:STANDARD
END:VTIMEZONE
BEGIN:VEVENT
UID:4626108:Event:532860
DTSTAMP:20260425T025453Z
SUMMARY:FREE Givers Gain Breakfast LIVE! Wallington
DESCRIPTION:Givers Gain Social Networking Breakfast at Mellows Pavilio
 n Cafe, Stafford Rd, Wallington SM6 9BU - All Welcome!\r\nGivers Gai
 n is a Social Networking Group. Using Givers Gain is like having doze
 ns of professional people working for you because everyone is looking 
 out for your interests. \r\nPlease join us\r\nWe strongly believe tha
 t networking is a valuable tool for anyone wanting to succeed in busin
 ess. It can give you new ideas and introduce you to future business o
 pportunities. \r\nThe organiser's phone number is  07967 555937.\r\n
 COST: Meeting fee £12:00 including breakfast (Visitors' first meetin
 g is FREE!) \r\nBOOKING: Please CLICK HERE to contact us via the Give
 rs Gain website to come along as a Visitor, or call Michael on 07967 
 555937\r\nMAP \n\nFor more information visit https://networkinginsurre
 y.co.uk/events/free-givers-gain-breakfast-wallington-21
DTSTART;TZID=Europe/London:20220526T070000
DTEND;TZID=Europe/London:20220526T083000
CATEGORIES:breakfast, wallington, networking, business, opportunities
LOCATION:Mellows Pavilion Cafe, Stafford Rd, Wallington SM6 9BU
WEBSITE:http://www.giversgain.uk.com
URL:http://www.giversgain.uk.com
CONTACT:07967 555937
ORGANIZER;CN="Michael de Lemos":https://networkinginsurrey.co.uk/profi
 le/MichaeldeLemos
ATTACH;FMTTYPE="image/jpeg":http://storage.ning.com/topology/rest/1.0/
 file/get/2470849404?profile=original
ATTENDEE;ROLE=REQ-PARTICIPANT;PARTSTAT=ACCEPTED;RSVP=TRUE;CN="Michael 
 de Lemos":https://networkinginsurrey.co.uk/profile/MichaeldeLemos
END:VEVENT
END:VCALENDAR
