BEGIN:VCALENDAR
PRODID:NingEventWidget-v1
VERSION:2.0
METHOD:PUBLISH
BEGIN:VTIMEZONE
TZID:Europe/London
X-LIC-LOCATION:Europe/London
BEGIN:DAYLIGHT
TZOFFSETFROM:+0000
TZOFFSETTO:+0100
TZNAME:BST
DTSTART:19700329T010000
RRULE:FREQ=YEARLY;BYMONTH=3;BYDAY=-1SU
END:DAYLIGHT
BEGIN:STANDARD
TZOFFSETFROM:+0100
TZOFFSETTO:+0000
TZNAME:GMT
DTSTART:19701025T020000
RRULE:FREQ=YEARLY;BYMONTH=10;BYDAY=-1SU
END:STANDARD
END:VTIMEZONE
BEGIN:VEVENT
UID:4626108:Event:539606
DTSTAMP:20260422T022813Z
SUMMARY:FREE Get Connected Morning, Guildford
DESCRIPTION:Free Breakfast Time Networking at Metro Bank\n\nGet Connec
 ted is a great way to grow your local business community in a simple, 
 relaxed, informal setting, you make it what you want it to be for you.
 \nEveryone is welcome.\nThis is not ‘networking’ as you know it.\n
 \nIt’s FREE\nDrop in at any time between 08:30-10:00\nStay for as lo
 ng or short as you like!\nNo elevator pitch\nNo locking out\nNo expect
 ations around visitors or referrals\n\nWe’re just simply bringing bu
 sinesses together to broaden our local business community.\nCOST: FREE
 \nBOOKING: Please CLICK HERE to book your free place\nMAP\n\nFor mo
 re information visit https://networkinginsurrey.co.uk/events/free-get-
 connected-morning-guildford
DTSTART;TZID=Europe/London:20231103T083000
DTEND;TZID=Europe/London:20231103T100000
CATEGORIES:networking
LOCATION:Metro Bank
WEBSITE:https://www.eventbrite.co.uk/e/get-connected-guildford-tickets
 -735368225157
URL:https://www.eventbrite.co.uk/e/get-connected-guildford-tickets-735
 368225157
CONTACT:0118 380 5130
ORGANIZER:Get Ahead VA
ATTACH;FMTTYPE="image/jpeg":https://storage.ning.com/topology/rest/1.0
 /file/get/12233572289?profile=original
ATTENDEE;ROLE=REQ-PARTICIPANT;PARTSTAT=ACCEPTED;RSVP=TRUE;CN="Helen Jo
 nes":https://networkinginsurrey.co.uk/profile/HelenJones
END:VEVENT
END:VCALENDAR
