BEGIN:VCALENDAR
PRODID:NingEventWidget-v1
VERSION:2.0
METHOD:PUBLISH
BEGIN:VTIMEZONE
TZID:Europe/London
X-LIC-LOCATION:Europe/London
BEGIN:DAYLIGHT
TZOFFSETFROM:+0000
TZOFFSETTO:+0100
TZNAME:BST
DTSTART:19700329T010000
RRULE:FREQ=YEARLY;BYMONTH=3;BYDAY=-1SU
END:DAYLIGHT
BEGIN:STANDARD
TZOFFSETFROM:+0100
TZOFFSETTO:+0000
TZNAME:GMT
DTSTART:19701025T020000
RRULE:FREQ=YEARLY;BYMONTH=10;BYDAY=-1SU
END:STANDARD
END:VTIMEZONE
BEGIN:VEVENT
UID:4626108:Event:96919
DTSTAMP:20260422T191023Z
SUMMARY:FREE GDPR  & Data Security Breakfast, Hersham
DESCRIPTION:FREE 'GDPR' Breakfast at Hersham Village Golf Club\r\n\r\n
 Is your Data secure? Are you GDPR compliant? Will you get a visit fro
 m the Data Protection Regulator?\r\nThe morning will be a Business For
 um focused on various topics to include:\r\nGoddards – GDPR\r\nMaria
  Anabi – Marketing\r\nSanjiv Dodhia – improving margins & business
  growth\r\nBarclays – Cyber Security & SmartBusiness\r\nAttend to fi
 nd out more; and get a free booklet on GDPR along with your free Break
 fast!\r\nCOST: FREE\r\nBOOKING: Please CLICK HERE to book your free pl
 ace \r\nMAP\n\nFor more information visit https://networkinginsurrey.
 co.uk/events/free-gdpr-data-security-breakfast-hersham
DTSTART;TZID=Europe/London:20180321T071500
DTEND;TZID=Europe/London:20180321T091500
CATEGORIES:breakfast, hersham, free
LOCATION:Hersham Village Golf Club KT12 4RA
WEBSITE:
URL:
CONTACT:020 8941 2187
ORGANIZER:Derek Williamson
ATTACH;FMTTYPE="image/jpeg":http://storage.ning.com/topology/rest/1.0/
 file/get/2591468397?profile=original
ATTENDEE;ROLE=REQ-PARTICIPANT;PARTSTAT=ACCEPTED;RSVP=TRUE;CN="Keith Gr
 over, NiS Founder":https://networkinginsurrey.co.uk/profile/KeithGrove
 r
END:VEVENT
END:VCALENDAR
