BEGIN:VCALENDAR
PRODID:NingEventWidget-v1
VERSION:2.0
METHOD:PUBLISH
BEGIN:VTIMEZONE
TZID:Europe/London
X-LIC-LOCATION:Europe/London
BEGIN:DAYLIGHT
TZOFFSETFROM:+0000
TZOFFSETTO:+0100
TZNAME:BST
DTSTART:19700329T010000
RRULE:FREQ=YEARLY;BYMONTH=3;BYDAY=-1SU
END:DAYLIGHT
BEGIN:STANDARD
TZOFFSETFROM:+0100
TZOFFSETTO:+0000
TZNAME:GMT
DTSTART:19701025T020000
RRULE:FREQ=YEARLY;BYMONTH=10;BYDAY=-1SU
END:STANDARD
END:VTIMEZONE
BEGIN:VEVENT
UID:4626108:Event:96819
DTSTAMP:20260422T203924Z
SUMMARY:FREE GDPR Evening Briefing, Redhill
DESCRIPTION:GDPR Evening Briefing at The Whyte Harte, Bletchingley\r\n
 \r\nEvery organisation that handles personal data, from large corporat
 ions to micro businesses, is affected by the new General Data Protecti
 on Regulation (GDPR), effective from 25 May 2018. \r\nThere has been a
  lot of hype, and a bit of scaremongering, but what does it really mea
 n for you and your organisation? \r\nGDPR specialists from Business M
 orphology will walk you through  key points of the GDPR, offer practi
 cal advice and give plenty of opportunities to ask the questions impor
 tant to you. \r\nTurn up early to buy yourself a meal or a pint from 
 the bar first, or stay on afterwards to enjoy this great venue! \r\nC
 OST: FREE to attend \r\nBOOKING: Please email info@businessmorpholog
 y.biz to reserve your place\r\nMAP\n\nFor more information visit https
 ://networkinginsurrey.co.uk/events/free-gdpr-briefing-in-redhill
DTSTART;TZID=Europe/London:20180327T190000
DTEND;TZID=Europe/London:20180327T210000
CATEGORIES:free, briefing
LOCATION:Whyte Harte, Bletchingly
WEBSITE:http://whytehartehotelbletchingley.co.uk/hotel
URL:http://whytehartehotelbletchingley.co.uk/hotel
CONTACT:
ORGANIZER;CN="Pamela Chandler":https://networkinginsurrey.co.uk/profil
 e/PamelaChandler
ATTACH;FMTTYPE="image/jpeg":http://storage.ning.com/topology/rest/1.0/
 file/get/2591469302?profile=original
ATTENDEE;ROLE=REQ-PARTICIPANT;PARTSTAT=ACCEPTED;RSVP=TRUE;CN="Pamela C
 handler":https://networkinginsurrey.co.uk/profile/PamelaChandler
END:VEVENT
END:VCALENDAR
