BEGIN:VCALENDAR
PRODID:NingEventWidget-v1
VERSION:2.0
METHOD:PUBLISH
BEGIN:VTIMEZONE
TZID:Europe/London
X-LIC-LOCATION:Europe/London
BEGIN:DAYLIGHT
TZOFFSETFROM:+0000
TZOFFSETTO:+0100
TZNAME:BST
DTSTART:19700329T010000
RRULE:FREQ=YEARLY;BYMONTH=3;BYDAY=-1SU
END:DAYLIGHT
BEGIN:STANDARD
TZOFFSETFROM:+0100
TZOFFSETTO:+0000
TZNAME:GMT
DTSTART:19701025T020000
RRULE:FREQ=YEARLY;BYMONTH=10;BYDAY=-1SU
END:STANDARD
END:VTIMEZONE
BEGIN:VEVENT
UID:4626108:Event:3707
DTSTAMP:20260425T183419Z
SUMMARY:FREE FSB We Mean Business Exhibition, Croydon
DESCRIPTION:Federation of Small Businesses 'We Mean Business' Exhibiti
 on\n\n\nCome and join us for our second business exhibition Last years
  exhibition was a great success and we're hoping for even more visitor
 s this year..\n\n\nThere will be lots of opportunities to network with
  other companies and the chance to attend seminars on various subjects
 .\nStands are great value at £99.00 plus VAT for FSB members and £11
 5.00 plus VAT for non members, including unlimited tea and coffee and 
 a sandwich lunch for two exhibitors. Stands are going fast, so book so
 on!!\nBOOK HERE - Register to attend FREE here\nIf you require any fur
 ther information, or would like to book a stand, please call the Surre
 y & West Sussex FSB Regional Office on 01403 734257 where Jane or Shar
 on will be pleased to help you.\nMAP\nHead for Croydon Town Centre and
  follow the signposts for Fairfield Halls. Fairfield is on the roundab
 out at the meeting of the A212 and the A232. The postcode is CR9 1DG.\
 nA large multi-storey car park, operated by NCP, is at the back of Fai
 rfield and accessed from Barclay Road, and charges are 1 Hour £ 2.00;
  1 To 2 Hours £ 4.00; 2 To 3 Hours £ 6.00; 3 To 4 Hours £ 8.00; 4 T
 o 5 Hours £ 10.00\n\nFor more information visit https://networkingins
 urrey.co.uk/events/free-fsb-we-mean-business
DTSTART;TZID=Europe/London:20101007T100000
DTEND;TZID=Europe/London:20101007T160000
CATEGORIES:free, business_exhibition
LOCATION:Fairfield Halls, Croydon CR9 1DG
WEBSITE:http://www.fsb.org.uk/surreyandwestsussex/wemeanbusiness
URL:http://www.fsb.org.uk/surreyandwestsussex/wemeanbusiness
CONTACT:01403 734257
ORGANIZER:FSB, Surrey & West Sussex
ATTACH;FMTTYPE="image/jpeg":http://storage.ning.com/topology/rest/1.0/
 file/get/2591378234?profile=original
ATTENDEE;ROLE=REQ-PARTICIPANT;PARTSTAT=ACCEPTED;RSVP=TRUE;CN="Derek Wi
 lliamson":https://networkinginsurrey.co.uk/profile/DerekWilliamson
END:VEVENT
END:VCALENDAR
