BEGIN:VCALENDAR
PRODID:NingEventWidget-v1
VERSION:2.0
METHOD:PUBLISH
BEGIN:VTIMEZONE
TZID:Europe/London
X-LIC-LOCATION:Europe/London
BEGIN:DAYLIGHT
TZOFFSETFROM:+0000
TZOFFSETTO:+0100
TZNAME:BST
DTSTART:19700329T010000
RRULE:FREQ=YEARLY;BYMONTH=3;BYDAY=-1SU
END:DAYLIGHT
BEGIN:STANDARD
TZOFFSETFROM:+0100
TZOFFSETTO:+0000
TZNAME:GMT
DTSTART:19701025T020000
RRULE:FREQ=YEARLY;BYMONTH=10;BYDAY=-1SU
END:STANDARD
END:VTIMEZONE
BEGIN:VEVENT
UID:4626108:Event:15915
DTSTAMP:20260422T172133Z
SUMMARY:FREE FSB Dagenham Motors Breakfast, Cobham
DESCRIPTION:Breakfast with the FSB at Dagenham Motors\n\nNot only will
  you have the opportunity to network with other local business owners 
 in this flagship Ford showroom, but you will be provided with tea, cof
 fee, fruit juice, bacon and sausage rolls, as well as checking out the
  latest Ford models - cars or commercial vehicles, for you to book you
 r test drive.There will be expert short presentations from Ford Motor 
 Co. on how to cut your motoring costs by understanding the various fle
 et schemes, as well as the use of electric vehicles. A local accountan
 t will explain the implications of vehicle tax and how to make it work
  for you. These presentations will be followed by a Q&A session, so th
 is is your chance to ask those awkward questions!As if all of this is 
 not enough for one breakfast meeting, Dagenham Motors will raffle the 
 free use of the all new Ford Focus motor car for the weekend* and all 
 you need to do is bring your business card to enter the draw.\nCOST: F
 REE - FSB Members and Non-members all welcomeCLICK HERE TO REGISTER: T
 his event is free but for catering purposes we do need you to registe
 r please. \n﻿\nMAP\n\nFor more information visit https://networking
 insurrey.co.uk/events/free-fsb-dagenham-motors
DTSTART;TZID=Europe/London:20110511T080000
DTEND;TZID=Europe/London:20110511T100000
CATEGORIES:free, breakfast, cobham
LOCATION:Dagenham Motors Showroom KT11 1JJ
WEBSITE:
URL:
CONTACT:
ORGANIZER:Ray Abrahams, FSB
ATTACH;FMTTYPE="image/jpeg":http://storage.ning.com/topology/rest/1.0/
 file/get/2591378234?profile=original
ATTENDEE;ROLE=REQ-PARTICIPANT;PARTSTAT=ACCEPTED;RSVP=TRUE;CN="Keith Gr
 over, NiS Founder":https://networkinginsurrey.co.uk/profile/KeithGrove
 r
ATTENDEE;ROLE=REQ-PARTICIPANT;PARTSTAT=TENTATIVE;RSVP=TRUE;CN="Barry K
 irkwood":https://networkinginsurrey.co.uk/profile/BarryKirkwood
END:VEVENT
END:VCALENDAR
