BEGIN:VCALENDAR
PRODID:NingEventWidget-v1
VERSION:2.0
METHOD:PUBLISH
BEGIN:VTIMEZONE
TZID:Europe/London
X-LIC-LOCATION:Europe/London
BEGIN:DAYLIGHT
TZOFFSETFROM:+0000
TZOFFSETTO:+0100
TZNAME:BST
DTSTART:19700329T010000
RRULE:FREQ=YEARLY;BYMONTH=3;BYDAY=-1SU
END:DAYLIGHT
BEGIN:STANDARD
TZOFFSETFROM:+0100
TZOFFSETTO:+0000
TZNAME:GMT
DTSTART:19701025T020000
RRULE:FREQ=YEARLY;BYMONTH=10;BYDAY=-1SU
END:STANDARD
END:VTIMEZONE
BEGIN:VEVENT
UID:4626108:Event:78365
DTSTAMP:20260425T132110Z
SUMMARY:FREE FSB Curry & Quiz Evening, Reigate
DESCRIPTION:FREE FSB Connect! Curry and Quiz Night at The Black Horse\
 n\nFollowing the hugely successful FSB Connect official launch, you ar
 e invited to a Curry and Quiz Night - with a twist!  \nDuring the qui
 z we will enjoy several surprises including spot prizes. The quiz mast
 er is an old hand!\nThe aim is simple, to fully connect the FSB as one
  organisation with our current members and the new, young ones of the 
 future.\nSo join us for an evening of quiz and fun with prizes and of 
 course Chef’s Surrey Curry.\nIt’s fast-paced, light and entertain
 ing with a picture round and general knowledge questions. Don’t worr
 y if you’re on your own, we have ways of networking people together!
 \n*** Free bar sponsored by FSB Insurance\nCOST:  FREE including cur
 ry and drinks - but registration is essential please, for catering pur
 poses \nBOOKING: Please CLICK HERE to secure your free place\nMAP\n\
 nFor more information visit https://networkinginsurrey.co.uk/events/fr
 ee-fsb-curry-quiz-evening-reigate
DTSTART;TZID=Europe/London:20160419T183000
DTEND;TZID=Europe/London:20160419T213000
CATEGORIES:quiz_night, fsb, reigate, free
LOCATION:The Black Horse, Private Room RH2 9JZ
WEBSITE:
URL:
CONTACT:
ORGANIZER;CN="Keith Grover, NiS Founder":https://networkinginsurrey.co
 .uk/profile/KeithGrover
ATTACH;FMTTYPE="image/jpeg":http://storage.ning.com/topology/rest/1.0/
 file/get/2591455086?profile=original
ATTENDEE;ROLE=REQ-PARTICIPANT;PARTSTAT=ACCEPTED;RSVP=TRUE;CN="Keith Gr
 over, NiS Founder":https://networkinginsurrey.co.uk/profile/KeithGrove
 r
END:VEVENT
END:VCALENDAR
