BEGIN:VCALENDAR
PRODID:NingEventWidget-v1
VERSION:2.0
METHOD:PUBLISH
BEGIN:VTIMEZONE
TZID:Europe/London
X-LIC-LOCATION:Europe/London
BEGIN:DAYLIGHT
TZOFFSETFROM:+0000
TZOFFSETTO:+0100
TZNAME:BST
DTSTART:19700329T010000
RRULE:FREQ=YEARLY;BYMONTH=3;BYDAY=-1SU
END:DAYLIGHT
BEGIN:STANDARD
TZOFFSETFROM:+0100
TZOFFSETTO:+0000
TZNAME:GMT
DTSTART:19701025T020000
RRULE:FREQ=YEARLY;BYMONTH=10;BYDAY=-1SU
END:STANDARD
END:VTIMEZONE
BEGIN:VEVENT
UID:4626108:Event:3163
DTSTAMP:20260426T004647Z
SUMMARY:FREE Fresh Air Fridays - Morning Netwalk, Bushy Park, Hampton
DESCRIPTION:Fresh Air Friday - FREE Netwalk\n\nBreathe fresh air into 
 your networking with these free, informal and inspirational networking
  events - in the fresh air!\nEach Netwalk lasts around 1.5 - 2 hours w
 ith the opportunity to stay for coffee and further networking after th
 e walk. These events are informal, energising and inspirational, and t
 he perfect way to connect with like-minded business owners in a relaxe
 d and beautiful environment. We meet at the Pheasantry Cafe (off Chest
 nut Avenue) in Bushy Park at 9.50 for a 10-am start. We start each mee
 ting with a very brief round of introductions and a business card shuf
 fle so make sure you bring plenty with you!\nDress code : Informal and
  comfortable for walking... Look forward to welcoming you!\nWarmest re
 gards\nJenny\nCOST: FREE - please BOOK HERE (you will need to Register
  (free) before you can book - the Register button is at the top right 
 corner of the screen). If you have any questions, please contact NiS M
 ember Jenny Littlejohn - you can directly message Jenny here on NiS by
  going to her profile.\nMAP (pdf)\nINTERACTIVE PARK PLAN\nParking and 
 disabled parking available, but as of May 2010 it's no longer free and
  these charges apply: 50p for an hour, £1 for 2 hours and £2 for thr
 ee hours or more\n-------------\nNetwalks in Surrey are the brainchild
  of NiS Members Tom Evans and Jenny Littlejohn, and have long been enj
 oyed by Ecademy members.\nHere's what some of our netwalkers said : \"
 Absolutely fab, probably the best networking I have been to all week. 
 Having given up the gym, I wanted to get into the hang of going for wa
 lks, it was perfect. Felt a bit pooped afterwards but enjoying walking
  more and more.... Also, resolved a business problem! What more could 
 you ask for!\" \"Great walk, very good networking, loads of ideas, and
  super company. You've got me hooked. thank you everyone who came and 
 thank you Jenny for organizing it.\"\n\n\nFor more information visit h
 ttps://networkinginsurrey.co.uk/events/free-fresh-air-fridays
DTSTART;TZID=Europe/London:20100709T100000
DTEND;TZID=Europe/London:20100709T120000
CATEGORIES:free, netwalk, morning, hampton, business_networking
LOCATION:The Pheasantry Cafe, Bushy Park, Hampton
WEBSITE:http://bigstrideswalks.spruz.com/events.htm
URL:http://bigstrideswalks.spruz.com/events.htm
CONTACT:01932 221712
ORGANIZER:Jenny Littlejohn
ATTACH;FMTTYPE="image/jpeg":http://storage.ning.com/topology/rest/1.0/
 file/get/2591376703?profile=original
END:VEVENT
END:VCALENDAR
