BEGIN:VCALENDAR
PRODID:NingEventWidget-v1
VERSION:2.0
METHOD:PUBLISH
BEGIN:VTIMEZONE
TZID:Europe/London
X-LIC-LOCATION:Europe/London
BEGIN:DAYLIGHT
TZOFFSETFROM:+0000
TZOFFSETTO:+0100
TZNAME:BST
DTSTART:19700329T010000
RRULE:FREQ=YEARLY;BYMONTH=3;BYDAY=-1SU
END:DAYLIGHT
BEGIN:STANDARD
TZOFFSETFROM:+0100
TZOFFSETTO:+0000
TZNAME:GMT
DTSTART:19701025T020000
RRULE:FREQ=YEARLY;BYMONTH=10;BYDAY=-1SU
END:STANDARD
END:VTIMEZONE
BEGIN:VEVENT
UID:4626108:Event:7289
DTSTAMP:20260423T153609Z
SUMMARY:FREE Fresh Air Fridays Morning Netwalk, Guildford
DESCRIPTION:Fresh Air Fridays - Free Morning Netwalk in the Surrey Hil
 ls\n\nBreathe fresh air into your networking with these free, informal
  and inspirational networking events in the Surrey Hills.  Each Netwa
 lk last around 1.5 - 2 hours with the opportunity to stay for lunch o
 r a drink and further networking after the walk.\nThis is the perfect
  opportunity to really get to know other business owners whilst walki
 ng and relaxing in the gorgeous countryside .Ând  You will meet some
  great new people and have the opportunity to catch up with existing c
 ontacts.\nThe format of the walk gives you plenty of time to chat, rel
 ax, do business and be inspired!\nDetails\nDate: Friday  25th Februar
 y * Time: 11am - 1pm * Place : Gomshall Mill, Gomshall\nCOST : Free!\n
 Lunch in The Mill optional\n \nWhat else?\n\nWear comfortable clothes
  for walking\nBring some water\nCash for refreshments after\nBring som
 e business cards/flyers\n\nMAP\n ------------------------------------
 --\n \nNetwalks in the Surrey Hills are the brainchild of NiS Members
  Tom Evans (The Bookwright) and Jenny Littlejohn .\nThese events are f
 un, energising and inspirational, and the perfect way to connect with 
 like-minded business owners in a relaxed and beautiful environment.\nW
 e start each meeting with a very brief round of introductions and a bu
 siness card shuffle so make sure you bring plenty with you. The format
  is informal and friendly and a great relaxed way to network Give it a
  try - we look forward to welcoming you!\n \nHere's what some of our 
 netwalkers said : \"Absolutely fab, probably the best networking I hav
 e been to all week. Having given up the gym, I wanted to get into the 
 hang of going for walks, it was perfect. Felt a bit pooped afterwards 
 but enjoying walking more and more.... Also, resolved a business probl
 em! What more could you ask for!\" \"Great walk, very good networking,
  loads of ideas, and super company. You've got me hooked. thank you ev
 eryone who came and thank you Jenny for organizing it.\"\n\nFor more i
 nformation visit https://networkinginsurrey.co.uk/events/free-fresh-ai
 r-fridays-morning-1
DTSTART;TZID=Europe/London:20110225T110000
DTEND;TZID=Europe/London:20110225T130000
CATEGORIES:free, netwalk, morning, guildford, business_networking_surr
 ey
LOCATION:Gomshall Mill GU5 9LB
WEBSITE:http://www.hcpr.co.uk/gomshallmill/
URL:http://www.hcpr.co.uk/gomshallmill/
CONTACT:
ORGANIZER:Jenny Littlejohn
ATTACH;FMTTYPE="image/jpeg":http://storage.ning.com/topology/rest/1.0/
 file/get/2591376703?profile=original
ATTENDEE;ROLE=REQ-PARTICIPANT;PARTSTAT=ACCEPTED;RSVP=TRUE;CN="Steve Gi
 bbs":https://networkinginsurrey.co.uk/profile/SteveGibbs
ATTENDEE;ROLE=REQ-PARTICIPANT;PARTSTAT=ACCEPTED;RSVP=TRUE;CN="Rosemary
  Hemmett":https://networkinginsurrey.co.uk/profile/RosemaryHemmett
ATTENDEE;ROLE=REQ-PARTICIPANT;PARTSTAT=ACCEPTED;RSVP=TRUE;CN="Keith Gr
 over, NiS Founder":https://networkinginsurrey.co.uk/profile/KeithGrove
 r
ATTENDEE;ROLE=REQ-PARTICIPANT;PARTSTAT=TENTATIVE;RSVP=TRUE;CN="Sarah O
 rchard":https://networkinginsurrey.co.uk/profile/SarahOrchard
ATTENDEE;ROLE=REQ-PARTICIPANT;PARTSTAT=TENTATIVE;RSVP=TRUE;CN="Tracy S
 tonard":https://networkinginsurrey.co.uk/profile/TracyStonard
END:VEVENT
END:VCALENDAR
