BEGIN:VCALENDAR
PRODID:NingEventWidget-v1
VERSION:2.0
METHOD:PUBLISH
BEGIN:VTIMEZONE
TZID:Europe/London
X-LIC-LOCATION:Europe/London
BEGIN:DAYLIGHT
TZOFFSETFROM:+0000
TZOFFSETTO:+0100
TZNAME:BST
DTSTART:19700329T010000
RRULE:FREQ=YEARLY;BYMONTH=3;BYDAY=-1SU
END:DAYLIGHT
BEGIN:STANDARD
TZOFFSETFROM:+0100
TZOFFSETTO:+0000
TZNAME:GMT
DTSTART:19701025T020000
RRULE:FREQ=YEARLY;BYMONTH=10;BYDAY=-1SU
END:STANDARD
END:VTIMEZONE
BEGIN:VEVENT
UID:4626108:Event:2549
DTSTAMP:20260425T200638Z
SUMMARY:FREE First (Second!) Friday Lunchtime Networking, Guildford
DESCRIPTION:First Friday FREE Lunchtime Networking, Guildford\n\nOn th
 e First Friday of every month Answers Investigation will be hosting th
 e First Friday networking group at The Boileroom in Guildford.\nThere'
 s no formality, no speeches (bar an introductory \"hello\" of 2-3 minu
 tes) and, following the First Friday format, the event itself is free 
 - you just buy any food or drink you may fancy!\nWe expect around 70-1
 00 guests for our launch event to network in an informal atmosphere at
  the Boileroom - a funky and different venue, with an exciting environ
 ment, bar and noodle bar - and central to Guildford. Take a look at th
 e pictures from the December meeting at Chichester to see what you can
  expect.\nIf you understand the value of face to face networking - and
  if you haven't yet experienced the First Friday format, then please c
 ome along - it's informal, friendly and people do business! We look fo
 rward to meeting you then...\nNO NEED TO BOOK - just drop in! We'd app
 reciate you letting us know if you're planning to come by emailing fir
 stfriday@answers.uk.com or calling Isla MacKinnon on 01483 200999.\nMA
 P\nThe event is sponsored by Private Detectives Answers Investigation,
  and posted by NiS Member Nigel Parsons.\n---------------------------\
 nFirst Friday is a new take on lunchtime business networking. There ar
 e no formalities, no speeches (bar an introductory \"hello\" of 2-3 mi
 nutes) - just other business people waiting to meet you. If you unders
 tand the value of face to face networking, and haven't yet experienced
  the First Friday format, please come along. it's informal, friendly, 
 and people do business, and what's more, it's free - you just buy what
 ever you want to eat or drink!\n\nFor more information visit https://n
 etworkinginsurrey.co.uk/events/free-first-second-friday
DTSTART;TZID=Europe/London:20100611T123000
DTEND;TZID=Europe/London:20100611T143000
CATEGORIES:lunchtime, guildford, first_friday_network, free, business_
 networking
LOCATION:The Boileroom Guildford GU1 4LS
WEBSITE:http://www.firstfriday-network.co.uk/showmeeting.php?m=guildfo
 rd
URL:http://www.firstfriday-network.co.uk/showmeeting.php?m=guildford
CONTACT:01483 200999
ORGANIZER:Isla MacKinnon, Answers Investigation
ATTACH;FMTTYPE="image/jpeg":http://storage.ning.com/topology/rest/1.0/
 file/get/2470851068?profile=original
ATTENDEE;ROLE=REQ-PARTICIPANT;PARTSTAT=ACCEPTED;RSVP=TRUE;CN="Keith Gr
 over, NiS Founder":https://networkinginsurrey.co.uk/profile/KeithGrove
 r
ATTENDEE;ROLE=REQ-PARTICIPANT;PARTSTAT=TENTATIVE;RSVP=TRUE;CN="Joanna 
 Atkinson":https://networkinginsurrey.co.uk/profile/JoannaAtkinson
END:VEVENT
END:VCALENDAR
