BEGIN:VCALENDAR
PRODID:NingEventWidget-v1
VERSION:2.0
METHOD:PUBLISH
BEGIN:VTIMEZONE
TZID:Europe/London
X-LIC-LOCATION:Europe/London
BEGIN:DAYLIGHT
TZOFFSETFROM:+0000
TZOFFSETTO:+0100
TZNAME:BST
DTSTART:19700329T010000
RRULE:FREQ=YEARLY;BYMONTH=3;BYDAY=-1SU
END:DAYLIGHT
BEGIN:STANDARD
TZOFFSETFROM:+0100
TZOFFSETTO:+0000
TZNAME:GMT
DTSTART:19701025T020000
RRULE:FREQ=YEARLY;BYMONTH=10;BYDAY=-1SU
END:STANDARD
END:VTIMEZONE
BEGIN:VEVENT
UID:4626108:Event:69315
DTSTAMP:20260419T134005Z
SUMMARY:FREE First Friday Lunchtime Networking, Guildford
DESCRIPTION:First Friday Guildford Networking Group\n\nPlease note aft
 er successfully running the event for 2 years 7th November will be the
  last First Friday event being run in Guildford.\nCome meet up for a r
 elaxed lunchtime session at the Albany, Guildford. Join us to make 
 some great new friends and business contacts.  \nThe Group is hosted 
 by: NiS Member Andrew Horne from True Potential Wealth Management LL
 P and Katerina Vladey from Expert SME Consulting Ltd\n \nJust bring y
 ourself and business cards!  All you need to buy are your own drinks 
 or lunch if you want it. (Check out the menu here...)\nCOST: FREE to
  attend (just buy your own food & drinks)\nBOOKING: If you are planni
 ng to attend, please email  andrewhorne@tpllp.com so that we can be 
 sure that we can accommodate everyone in a comfortable area. \nMAP\nP
 ARKING: There is ample car parking either in the pay and display on Sy
 denham Road or the main Castle Street Car Park, both a few minutes awa
 y. The Albany is just a short walk from Guildford High Street.  There
  is also up to two-hour on street pay parking right outside.\n--------
 -------------------------------------------------\nThe Guildford First
  Friday Group will no longer meet after the 7th November.\n\n\nFor mor
 e information visit https://networkinginsurrey.co.uk/events/free-first
 -friday-lunchtime-networking-guildford-20
DTSTART;TZID=Europe/London:20141107T123000
DTEND;TZID=Europe/London:20141107T140000
CATEGORIES:lunchtime, guildford, first_friday_network, free, business_
 networking
LOCATION:Albany, Guildford, GU1 3SA
WEBSITE:http://www.firstfriday-network.co.uk/meetings/details/guildfor
 d
URL:http://www.firstfriday-network.co.uk/meetings/details/guildford
CONTACT:07780 464622
ORGANIZER;CN="Andrew Horne":https://networkinginsurrey.co.uk/profile/A
 ndrewHorne788
ATTACH;FMTTYPE="image/jpeg":http://storage.ning.com/topology/rest/1.0/
 file/get/2591389520?profile=original
ATTENDEE;ROLE=REQ-PARTICIPANT;PARTSTAT=ACCEPTED;RSVP=TRUE;CN="Andrew H
 orne":https://networkinginsurrey.co.uk/profile/AndrewHorne788
END:VEVENT
END:VCALENDAR
