BEGIN:VCALENDAR
PRODID:NingEventWidget-v1
VERSION:2.0
METHOD:PUBLISH
BEGIN:VTIMEZONE
TZID:Europe/London
X-LIC-LOCATION:Europe/London
BEGIN:DAYLIGHT
TZOFFSETFROM:+0000
TZOFFSETTO:+0100
TZNAME:BST
DTSTART:19700329T010000
RRULE:FREQ=YEARLY;BYMONTH=3;BYDAY=-1SU
END:DAYLIGHT
BEGIN:STANDARD
TZOFFSETFROM:+0100
TZOFFSETTO:+0000
TZNAME:GMT
DTSTART:19701025T020000
RRULE:FREQ=YEARLY;BYMONTH=10;BYDAY=-1SU
END:STANDARD
END:VTIMEZONE
BEGIN:VEVENT
UID:4626108:Event:50262
DTSTAMP:20260421T221248Z
SUMMARY:FREE First Friday Lunchtime Networking, Croydon
DESCRIPTION:Free Lunchtime Networking at The Jolly Farmers\n\nNew Venu
 e!\nFirst Friday Network is a free business Networking event every fir
 st friday of the month in Croydon.\nThere's no formality, no speeches 
 (bar an introductory \"hello\" of 2-3 minutes) and, following the Firs
 t Friday format, the event itself is free - you just buy any food or d
 rink you may fancy!\nCome along,pass out your card and network with ot
 her local businesses.\nIf you understand the value of face-to-face net
 working - and if you haven't yet experienced the First Friday format, 
 then please come along. It's your chance to meet people in business, w
 ho will do business with you. Bring along plenty of business cards and
  promotional material....and of course money to buy your own drinks.\n
 \"I look forward to meeting you.\" Ian Harris, NiS Member, Croydon Hos
 t/organiser\nCOST: FREE - just buy your own drinks or food\nMAP\n----
 -----------------------\nFirst Friday is a new take on lunchtime busi
 ness networking. There are no formalities, no speeches - just other bu
 siness people waiting to meet you. it's informal, friendly, and people
  do business, and what's more, it's free - you just buy whatever you w
 ant to eat or drink!\nWatch the First Friday introductory VIDEO here 
 on YouTube\n\nFor more information visit https://networkinginsurrey.co
 .uk/events/free-first-friday-lunchtime-networking-croydon-3
DTSTART;TZID=Europe/London:20121102T114500
DTEND;TZID=Europe/London:20121102T141500
CATEGORIES:free, lunchtime, croydon, first_friday
LOCATION:The Jolly Farmers  CR8 2HA
WEBSITE:http://www.firstfriday-network.co.uk/meetings/details/croydon
URL:http://www.firstfriday-network.co.uk/meetings/details/croydon
CONTACT:07870 568189
ORGANIZER:Ian Harris
ATTACH;FMTTYPE="image/jpeg":http://storage.ning.com/topology/rest/1.0/
 file/get/891954084?profile=original
ATTENDEE;ROLE=REQ-PARTICIPANT;PARTSTAT=ACCEPTED;RSVP=TRUE;CN="Keith Gr
 over, NiS Founder":https://networkinginsurrey.co.uk/profile/KeithGrove
 r
END:VEVENT
END:VCALENDAR
