BEGIN:VCALENDAR
PRODID:NingEventWidget-v1
VERSION:2.0
METHOD:PUBLISH
BEGIN:VTIMEZONE
TZID:Europe/London
X-LIC-LOCATION:Europe/London
BEGIN:DAYLIGHT
TZOFFSETFROM:+0000
TZOFFSETTO:+0100
TZNAME:BST
DTSTART:19700329T010000
RRULE:FREQ=YEARLY;BYMONTH=3;BYDAY=-1SU
END:DAYLIGHT
BEGIN:STANDARD
TZOFFSETFROM:+0100
TZOFFSETTO:+0000
TZNAME:GMT
DTSTART:19701025T020000
RRULE:FREQ=YEARLY;BYMONTH=10;BYDAY=-1SU
END:STANDARD
END:VTIMEZONE
BEGIN:VEVENT
UID:4626108:Event:7408
DTSTAMP:20260422T191024Z
SUMMARY:FREE First Friday Lunchtime Networking, Croydon
DESCRIPTION:Welcome to the new First Friday Croydon meeting at The Edg
 e.\n\nIf you understand the value of face to face networking - come al
 ong - if you haven't yet experienced it - come along - its informal, f
 riendly and people do business!\nThere is no prior booking, no registr
 ation, no fees and no pressure! \nPlease pass this on to anyone who y
 ou feel will benefit from our great networking group.Everybody is welc
 ome! Just buy your own drinks and food. \nBring plenty of business c
 ards and promotional material and enjoy the relaxed atmosphere of thi
 s unstructured networking group.\nI look forward to meeting you.\nSand
 ra\nMAP\n---------------------------\nFirst Friday is a new take on lu
 nchtime business networking. There are no formalities, no speeches - j
 ust other business people waiting to meet you. it's informal, friendly
 , and people do business, and what's more, it's free - you just buy wh
 atever you want to eat or drink!\nWatch the First Friday introductory 
 VIDEO here on YouTube\n \n\nFor more information visit https://networ
 kinginsurrey.co.uk/events/free-first-friday-lunchtime-5
DTSTART;TZID=Europe/London:20110204T130000
DTEND;TZID=Europe/London:20110204T143000
CATEGORIES:lunchtime, croydon, first_friday_network, free, business_ne
 tworking
LOCATION:The Edge CR0 1BE
WEBSITE:http://www.firstfriday-network.co.uk/showmeeting.php?m=croydon
 &utm_medium=email&utm_campaign=First+Friday+February+Meetings&utm_cont
 ent=First+Friday+February+Meetings+CID_902bd4ffc9038ffcac9ebcd6b5a0366
 7&utm_source=Email+marketing+software&utm_term=Croydon
URL:http://www.firstfriday-network.co.uk/showmeeting.php?m=croydon&utm
 _medium=email&utm_campaign=First+Friday+February+Meetings&utm_content=
 First+Friday+February+Meetings+CID_902bd4ffc9038ffcac9ebcd6b5a03667&ut
 m_source=Email+marketing+software&utm_term=Croydon
CONTACT:07850 747 108
ORGANIZER:Sandra Nambasa, Secours Ltd
ATTACH;FMTTYPE="image/jpeg":http://storage.ning.com/topology/rest/1.0/
 file/get/891954084?profile=original
ATTENDEE;ROLE=REQ-PARTICIPANT;PARTSTAT=ACCEPTED;RSVP=TRUE;CN="Alan Rog
 ers":https://networkinginsurrey.co.uk/profile/DreamGeniusLtd
ATTENDEE;ROLE=REQ-PARTICIPANT;PARTSTAT=ACCEPTED;RSVP=TRUE;CN="Keith Gr
 over, NiS Founder":https://networkinginsurrey.co.uk/profile/KeithGrove
 r
END:VEVENT
END:VCALENDAR
