BEGIN:VCALENDAR
PRODID:NingEventWidget-v1
VERSION:2.0
METHOD:PUBLISH
BEGIN:VTIMEZONE
TZID:Europe/London
X-LIC-LOCATION:Europe/London
BEGIN:DAYLIGHT
TZOFFSETFROM:+0000
TZOFFSETTO:+0100
TZNAME:BST
DTSTART:19700329T010000
RRULE:FREQ=YEARLY;BYMONTH=3;BYDAY=-1SU
END:DAYLIGHT
BEGIN:STANDARD
TZOFFSETFROM:+0100
TZOFFSETTO:+0000
TZNAME:GMT
DTSTART:19701025T020000
RRULE:FREQ=YEARLY;BYMONTH=10;BYDAY=-1SU
END:STANDARD
END:VTIMEZONE
BEGIN:VEVENT
UID:4626108:Event:6315
DTSTAMP:20260422T132623Z
SUMMARY:FREE First Friday Lunchtime Networking, Guildford
DESCRIPTION:First Friday FREE Lunchtime Networking, Guildford\n\nOn th
 e First Friday of every month Answers Investigation will be hosting th
 e First Friday networking group in Guildford.\nThere's no formality, n
 o speeches (bar an introductory \"hello\" of 2-3 minutes) and, followi
 ng the First Friday format, the event itself is free - you just buy an
 y food or drink you may fancy! (Check out the lunch menu here...)\nNet
 work in an informal atmosphere at the Albany, Guildford. There is ampl
 e car parking either in the pay and display on Sydenham Road or the ma
 in Castle Street Car Park, both a few minutes away. The Albany is also
  a short walk from Guildford High Street.\nTake a look at the pictures
  from a meeting at Chichester to see what you can expect.\nIf you unde
 rstand the value of face-to-face networking - and if you haven't yet e
 xperienced the First Friday format, then please come along. It's your 
 chance to meet people in business, who will do business with you – a
 nd there's a free, business card prize draw. We look forward to meetin
 g you then...\nNO NEED TO BOOK - just drop in! We'd appreciate you let
 ting us know if you're planning to come by emailing firstfriday@answer
 s.uk.com or calling Marnie Higgins on 01483 200999.\nMAP\n The event i
 s sponsored by Private Detectives Answers Investigation, and posted by
  NiS Member Nigel Parsons.\n---------------------------\nFirst Friday 
 is a new take on lunchtime business networking. There are no formaliti
 es, no speeches - just other business people waiting to meet you. it's
  informal, friendly, and people do business, and what's more, it's fre
 e - you just buy whatever you want to eat or drink!\nWatch the First F
 riday introductory VIDEO here on YouTube\n \n\nFor more information v
 isit https://networkinginsurrey.co.uk/events/free-first-friday-lunchti
 me-4
DTSTART;TZID=Europe/London:20110107T123000
DTEND;TZID=Europe/London:20110107T143000
CATEGORIES:lunchtime, guildford, first_friday_network, free, business_
 networking
LOCATION:The Albany, Guildford GU1 3SA
WEBSITE:http://www.firstfriday-network.co.uk/showmeeting.php?m=guildfo
 rd
URL:http://www.firstfriday-network.co.uk/showmeeting.php?m=guildford
CONTACT:01483 200999
ORGANIZER:Marnie Higgins, Answers Investigation
ATTACH;FMTTYPE="image/jpeg":http://storage.ning.com/topology/rest/1.0/
 file/get/2470851068?profile=original
ATTENDEE;ROLE=REQ-PARTICIPANT;PARTSTAT=ACCEPTED;RSVP=TRUE;CN="Kenn Jor
 dan":https://networkinginsurrey.co.uk/profile/KennJordan
ATTENDEE;ROLE=REQ-PARTICIPANT;PARTSTAT=ACCEPTED;RSVP=TRUE;CN="Ian Gray
 ":https://networkinginsurrey.co.uk/profile/IanGray
ATTENDEE;ROLE=REQ-PARTICIPANT;PARTSTAT=ACCEPTED;RSVP=TRUE;CN="Keith Gr
 over, NiS Founder":https://networkinginsurrey.co.uk/profile/KeithGrove
 r
END:VEVENT
END:VCALENDAR
