BEGIN:VCALENDAR
PRODID:NingEventWidget-v1
VERSION:2.0
METHOD:PUBLISH
BEGIN:VTIMEZONE
TZID:Europe/London
X-LIC-LOCATION:Europe/London
BEGIN:DAYLIGHT
TZOFFSETFROM:+0000
TZOFFSETTO:+0100
TZNAME:BST
DTSTART:19700329T010000
RRULE:FREQ=YEARLY;BYMONTH=3;BYDAY=-1SU
END:DAYLIGHT
BEGIN:STANDARD
TZOFFSETFROM:+0100
TZOFFSETTO:+0000
TZNAME:GMT
DTSTART:19701025T020000
RRULE:FREQ=YEARLY;BYMONTH=10;BYDAY=-1SU
END:STANDARD
END:VTIMEZONE
BEGIN:VEVENT
UID:4626108:Event:5694
DTSTAMP:20260423T070058Z
SUMMARY:FREE First Friday Lunchtime Networking, Guildford
DESCRIPTION:First Friday FREE Lunchtime Networking, Guildford\n\nOn th
 e First Friday of every month Answers Investigation will be hosting th
 e First Friday networking group in Guildford.\nThere's no formality, n
 o speeches (bar an introductory \"hello\" of 2-3 minutes) and, followi
 ng the First Friday format, the event itself is free - you just buy an
 y food or drink you may fancy! (Check out the lunch menu here...)\nNet
 work in an informal atmosphere at the Albany, Guildford. There is ampl
 e car parking either in the pay and display on Sydenham Road or the ma
 in Castle Street Car Park, both a few minutes away. The Albany is also
  a short walk from Guildford High Street.\nTake a look at the pictures
  from the December meeting at Chichester to see what you can expect.\n
 If you understand the value of face-to-face networking - and if you ha
 ven't yet experienced the First Friday format, then please come along.
  It's your chance to meet people in business, who will do business wit
 h you – and there's a free, business card prize draw. We look forwar
 d to meeting you then...\nNO NEED TO BOOK - just drop in! We'd appreci
 ate you letting us know if you're planning to come by emailing firstfr
 iday@answers.uk.com or calling Marnie Higgins on 01483 200999.\nMAP\n 
 The event is sponsored by Private Detectives Answers Investigation, an
 d posted by NiS Member Nigel Parsons.\n---------------------------\nFi
 rst Friday is a new take on lunchtime business networking. There are n
 o formalities, no speeches - just other business people waiting to mee
 t you. it's informal, friendly, and people do business, and what's mor
 e, it's free - you just buy whatever you want to eat or drink!\nWatch 
 the First Friday introductory VIDEO here on YouTube\n \n\nFor more in
 formation visit https://networkinginsurrey.co.uk/events/free-first-fri
 day-lunchtime-3
DTSTART;TZID=Europe/London:20101203T123000
DTEND;TZID=Europe/London:20101203T143000
CATEGORIES:lunchtime, guildford, first_friday_network, free, business_
 networking
LOCATION:The Albany, Guildford GU1 3SA
WEBSITE:http://www.firstfriday-network.co.uk/showmeeting.php?m=guildfo
 rd
URL:http://www.firstfriday-network.co.uk/showmeeting.php?m=guildford
CONTACT:01483 200999
ORGANIZER:Marnie Higgins, Answers Investigation
ATTACH;FMTTYPE="image/jpeg":http://storage.ning.com/topology/rest/1.0/
 file/get/2591389520?profile=original
ATTENDEE;ROLE=REQ-PARTICIPANT;PARTSTAT=ACCEPTED;RSVP=TRUE;CN="Martyn J
  Robinson":https://networkinginsurrey.co.uk/profile/MartynJRobinson
ATTENDEE;ROLE=REQ-PARTICIPANT;PARTSTAT=ACCEPTED;RSVP=TRUE;CN="Shân Hu
 ghes":https://networkinginsurrey.co.uk/profile/ShanHughes
ATTENDEE;ROLE=REQ-PARTICIPANT;PARTSTAT=ACCEPTED;RSVP=TRUE;CN="Keith Gr
 over, NiS Founder":https://networkinginsurrey.co.uk/profile/KeithGrove
 r
ATTENDEE;ROLE=REQ-PARTICIPANT;PARTSTAT=TENTATIVE;RSVP=TRUE;CN="Steve B
 ridger":https://networkinginsurrey.co.uk/profile/SteveBridger
END:VEVENT
END:VCALENDAR
