BEGIN:VCALENDAR
PRODID:NingEventWidget-v1
VERSION:2.0
METHOD:PUBLISH
BEGIN:VTIMEZONE
TZID:Europe/London
X-LIC-LOCATION:Europe/London
BEGIN:DAYLIGHT
TZOFFSETFROM:+0000
TZOFFSETTO:+0100
TZNAME:BST
DTSTART:19700329T010000
RRULE:FREQ=YEARLY;BYMONTH=3;BYDAY=-1SU
END:DAYLIGHT
BEGIN:STANDARD
TZOFFSETFROM:+0100
TZOFFSETTO:+0000
TZNAME:GMT
DTSTART:19701025T020000
RRULE:FREQ=YEARLY;BYMONTH=10;BYDAY=-1SU
END:STANDARD
END:VTIMEZONE
BEGIN:VEVENT
UID:4626108:Event:4227
DTSTAMP:20260425T214630Z
SUMMARY:FREE First Friday Lunchtime Networking, Guildford
DESCRIPTION:First Friday FREE Lunchtime Networking, Guildford\n\nOn th
 e First Friday of every month Answers Investigation will be hosting th
 e First Friday networking group in Guildford.\nThere's no formality, n
 o speeches (bar an introductory \"hello\" of 2-3 minutes) and, followi
 ng the First Friday format, the event itself is free - you just buy an
 y food or drink you may fancy!\nNetwork in an informal atmosphere at t
 he Albany, Guildford. There is ample car parking either in the pay and
  display on Sydenham Road or the main Castle Street Car Park, both a f
 ew minutes away. The Albany is also a short walk from Guildford High S
 treet.\nTake a look at the pictures from the December meeting at Chich
 ester to see what you can expect.\nIf you understand the value of face
 -to-face networking - and if you haven't yet experienced the First Fri
 day format, then please come along. It's your chance to meet people in
  business, who will do business with you – and there's a free, busin
 ess card prize draw. We look forward to meeting you then...\nNO NEED T
 O BOOK - just drop in! We'd appreciate you letting us know if you're p
 lanning to come by emailing firstfriday@answers.uk.com or calling Marn
 ie Higgins on 01483 200999.\nMAP\nThe event is sponsored by Private De
 tectives Answers Investigation, and posted by NiS Member Nigel Parsons
 .\n---------------------------\nFirst Friday is a new take on lunchtim
 e business networking. There are no formalities, no speeches - just ot
 her business people waiting to meet you. it's informal, friendly, and 
 people do business, and what's more, it's free - you just buy whatever
  you want to eat or drink!\nWatch the First Friday introductory VIDEO 
 here on YouTube\n\n\nFor more information visit https://networkinginsu
 rrey.co.uk/events/free-first-friday-lunchtime-1
DTSTART;TZID=Europe/London:20101001T123000
DTEND;TZID=Europe/London:20101001T140000
CATEGORIES:lunchtime, guildford, first_friday_network, free, business_
 networking
LOCATION:The Albany, Guildford GU1 3SA
WEBSITE:http://www.thealbanypubguildford.co.uk/about_us
URL:http://www.thealbanypubguildford.co.uk/about_us
CONTACT:01483 200999
ORGANIZER:Marnie Higgins, Answers Investigation
ATTACH;FMTTYPE="image/jpeg":http://storage.ning.com/topology/rest/1.0/
 file/get/2470851068?profile=original
ATTENDEE;ROLE=REQ-PARTICIPANT;PARTSTAT=ACCEPTED;RSVP=TRUE;CN="Keith Gr
 over, NiS Founder":https://networkinginsurrey.co.uk/profile/KeithGrove
 r
END:VEVENT
END:VCALENDAR
