BEGIN:VCALENDAR
PRODID:NingEventWidget-v1
VERSION:2.0
METHOD:PUBLISH
BEGIN:VTIMEZONE
TZID:Europe/London
X-LIC-LOCATION:Europe/London
BEGIN:DAYLIGHT
TZOFFSETFROM:+0000
TZOFFSETTO:+0100
TZNAME:BST
DTSTART:19700329T010000
RRULE:FREQ=YEARLY;BYMONTH=3;BYDAY=-1SU
END:DAYLIGHT
BEGIN:STANDARD
TZOFFSETFROM:+0100
TZOFFSETTO:+0000
TZNAME:GMT
DTSTART:19701025T020000
RRULE:FREQ=YEARLY;BYMONTH=10;BYDAY=-1SU
END:STANDARD
END:VTIMEZONE
BEGIN:VEVENT
UID:4626108:Event:3134
DTSTAMP:20260425T174113Z
SUMMARY:FREE First Friday Badminton Networking Evening, Lightwater
DESCRIPTION:First Friday Badminton Networking Evening hosted by projec
 tfive\n\nWe are pleased to invite you to First Friday Badminton – a 
 fun Business Networking Event hosted by projectfive.\nBusiness Leaders
  from local companies meet for a couple of hours to play badminton in 
 a relaxed and friendly environment. Here's your chance to reserve your
  place. The standard of play (and fitness) is varied, and you'll take 
 part in several games of mixed-doubles. Come along and see for yoursel
 f - you'll get to play with at least 5 partners during the evening, ag
 ainst different opponents each time. Then, it's drinks and snacks in t
 he bar to catch up with everyone else. And don’t forget your Busines
 s Cards too!\nCOST: Free to attend - projectfive pays for the racquet 
 and court hire, and the refershments\nBOOK HERE: Places are limited to
  30 people. Please get in touch today to reserve your place (badminton
 @projectfive.co.uk or 01276 455455).\nMAP\n---------------------------
 ---------------\n\"What an excellently organised and well run event. I
 t was a great opportunity to meet up with other local business in a re
 laxed and informal environment. I had forgotten how much fun playing b
 adminton was and I look forward to the next evening ( I may even pract
 ice before this one!!). Thanks for your time and hospitality. \" Graem
 e Winship, Director of Logistics, Bisley Office Furniture.\n\n\"What a
  brilliant evening – it was a great way to meet local businesses, an
 d really enjoyable too.\nI hadn’t played Badminton for a while – b
 ut it was all so relaxed and friendly that I was soon in the swing of 
 it again. Thank you for organising the evening and I’m looking forwa
 rd to the next one.\" John Biffen, Partner, Menzies.\n\nFor more infor
 mation visit https://networkinginsurrey.co.uk/events/free-first-friday
 -badminton
DTSTART;TZID=Europe/London:20100702T180000
DTEND;TZID=Europe/London:20100702T200000
CATEGORIES:free, badminton, evening, business_networking_surrey
LOCATION:Lightwater Leisure Centre, GU18 5RG
WEBSITE:http://www.projectfive.co.uk/
URL:http://www.projectfive.co.uk/
CONTACT:01276 455455
ORGANIZER:Steve Coburn and Sarah Giles
ATTACH;FMTTYPE="image/jpeg":http://storage.ning.com/topology/rest/1.0/
 file/get/2591379540?profile=original
END:VEVENT
END:VCALENDAR
