BEGIN:VCALENDAR
PRODID:NingEventWidget-v1
VERSION:2.0
METHOD:PUBLISH
BEGIN:VTIMEZONE
TZID:Europe/London
X-LIC-LOCATION:Europe/London
BEGIN:DAYLIGHT
TZOFFSETFROM:+0000
TZOFFSETTO:+0100
TZNAME:BST
DTSTART:19700329T010000
RRULE:FREQ=YEARLY;BYMONTH=3;BYDAY=-1SU
END:DAYLIGHT
BEGIN:STANDARD
TZOFFSETFROM:+0100
TZOFFSETTO:+0000
TZNAME:GMT
DTSTART:19701025T020000
RRULE:FREQ=YEARLY;BYMONTH=10;BYDAY=-1SU
END:STANDARD
END:VTIMEZONE
BEGIN:VEVENT
UID:4626108:Event:530883
DTSTAMP:20260424T175446Z
SUMMARY:FREE Fabulous Networking Guildford Coffee-Time Online
DESCRIPTION:Fabulous Networking Guildford Coffee-Time Online \r\n\r\n
 Join John Edward for a morning of business networking with Fabulous N
 etworking's Guildford Group.\r\nIs the isolation of home working getti
 ng you down? Are you struggling to grow your business in these challen
 ging times? Do you need some help to get your mojo back?\r\nThese are 
 just some of the reasons why people attend Fabulous Networking meeting
 s. Whether you are just starting out or have been trading for years th
 ere’s a place for you in our community.\r\nYou’ll have the opportu
 nity to promote your business in 60 seconds to everyone on the call. Y
 ou’ll make connections with other business owners and professionals 
 and be challenged to think by our speaker.\r\nOur speaker this month i
 s Jill Aburrow of Heartfelt HR who will be speaking about Publicity fo
 r Fabulous Networking Guildford 18.1.22collaboration.\r\nOur agenda is
  flexible to meet the needs of the attendees so there may be some spee
 d networking, a business hotseat or some small group discussions.\r\nW
 e promise you a relaxed but professional meeting. Everyone is welcome.
  We believe that people buy people and that there are collaborative op
 portunities with our competitors so there are no professional lock out
 s of Fabulous Networking.\r\nVisitors may attend up to three meetings 
 free of charge after which become a member from £17 per month and get
  all our online events free.\r\nBook your place and we’ll send you t
 he link to the Zoom call the night before the meeting.\r\nWe look forw
 ard to seeing you.\r\nCOST: FREE for new Guests and FW members \r\n
 BOOKING: Please CLICK HERE to book, or email marketing@fabulousnetwor
 king.co.uk  for more information, and we will send you the Zoom link 
 so you can join us for the meeting\r\n--------------------------------
 -\r\nFind other local Fabulous Women events here on Networking in Su
 rrey...\n\nFor more information visit https://networkinginsurrey.co.uk
 /events/free-fabulous-networking-guildford-coffee-time-online
DTSTART;TZID=Europe/London:20220118T100000
DTEND;TZID=Europe/London:20220118T120000
CATEGORIES:lunchtime, online, petersfield, netwinning, fabulous_women
LOCATION:Online only
WEBSITE:
URL:
CONTACT:
ORGANIZER:John Edward
ATTACH;FMTTYPE="image/jpeg":https://storage.ning.com/topology/rest/1.0
 /file/get/8275875856?profile=original
ATTENDEE;ROLE=REQ-PARTICIPANT;PARTSTAT=ACCEPTED;RSVP=TRUE;CN="Keith Gr
 over, NiS Founder":https://networkinginsurrey.co.uk/profile/KeithGrove
 r
END:VEVENT
END:VCALENDAR
