BEGIN:VCALENDAR
PRODID:NingEventWidget-v1
VERSION:2.0
METHOD:PUBLISH
BEGIN:VTIMEZONE
TZID:Europe/London
X-LIC-LOCATION:Europe/London
BEGIN:DAYLIGHT
TZOFFSETFROM:+0000
TZOFFSETTO:+0100
TZNAME:BST
DTSTART:19700329T010000
RRULE:FREQ=YEARLY;BYMONTH=3;BYDAY=-1SU
END:DAYLIGHT
BEGIN:STANDARD
TZOFFSETFROM:+0100
TZOFFSETTO:+0000
TZNAME:GMT
DTSTART:19701025T020000
RRULE:FREQ=YEARLY;BYMONTH=10;BYDAY=-1SU
END:STANDARD
END:VTIMEZONE
BEGIN:VEVENT
UID:4626108:Event:530880
DTSTAMP:20260424T162855Z
SUMMARY:FREE Fabulous Networking Alton Coffee Time Online
DESCRIPTION:Fabulous Women Alton Coffee Time Online \r\n\r\n\r\n\r\nT
 he ever supportive Mandy Dineley looks forward to welcoming you to thi
 s meeting. \r\n\r\n\r\n\r\n\r\n\r\n\r\n\r\n\r\nWhether you are just st
 arting out or have been trading for years there’s a place for you in
  our community.\r\nYou’ll have the opportunity to promote your busin
 ess in 60 seconds to everyone on the call. You’ll make connections w
 ith other business owners and professionals and be challenged to think
  by our speaker.\r\nOur agenda is flexible to meet the needs of the at
 tendees so there may be some speed networking, a business hotseat or s
 ome small group discussions.\r\nWe promise you a relaxed but professio
 nal meeting. Everyone is welcome. We believe that people buy people an
 d that there are collaborative opportunities with our competitors so t
 here are no professional lock outs of Fabulous Networking.\r\nOur spea
 ker this month is branding expert Sapna Pieroux from Inner Visions ID.
   Sapna is the author of Let’s Get Visible and she has worked with 
 numerous businesses from the smallest to household names such as Toyot
 a, Rimmel and Sony Ericsson. \r\nVisitors may attend up to three meeti
 ngs free of charge after which become a member from £17 per month and
  get all our online events free.\r\nBook your place and we’ll send y
 ou the link to the Zoom call the night before the meeting.\r\nWe look 
 forward to seeing you.\r\nCOST: FREE for new Guests and FN Members o
 r £10 pay-as-you-go per meeting\r\nBOOKING: Members please CLICK 
 HERE to book, Visitors please email marketing@fabulousnetworking.co.
 uk  for more information, and we will send you the Zoom link so you c
 an join us for the meeting\r\n\r\n\r\n\r\n\n\nFor more information vis
 it https://networkinginsurrey.co.uk/events/free-fabulous-networking-al
 ton-coffee-time-online
DTSTART;TZID=Europe/London:20220119T100000
DTEND;TZID=Europe/London:20220119T120000
CATEGORIES:lunchtime, online, petersfield, netwinning, fabulous_women
LOCATION:Online only
WEBSITE:
URL:
CONTACT:
ORGANIZER:Jill Aburrow
ATTACH;FMTTYPE="image/jpeg":https://storage.ning.com/topology/rest/1.0
 /file/get/8275893275?profile=original
ATTENDEE;ROLE=REQ-PARTICIPANT;PARTSTAT=ACCEPTED;RSVP=TRUE;CN="Keith Gr
 over, NiS Founder":https://networkinginsurrey.co.uk/profile/KeithGrove
 r
END:VEVENT
END:VCALENDAR
