BEGIN:VCALENDAR
PRODID:NingEventWidget-v1
VERSION:2.0
METHOD:PUBLISH
BEGIN:VTIMEZONE
TZID:Europe/London
X-LIC-LOCATION:Europe/London
BEGIN:DAYLIGHT
TZOFFSETFROM:+0000
TZOFFSETTO:+0100
TZNAME:BST
DTSTART:19700329T010000
RRULE:FREQ=YEARLY;BYMONTH=3;BYDAY=-1SU
END:DAYLIGHT
BEGIN:STANDARD
TZOFFSETFROM:+0100
TZOFFSETTO:+0000
TZNAME:GMT
DTSTART:19701025T020000
RRULE:FREQ=YEARLY;BYMONTH=10;BYDAY=-1SU
END:STANDARD
END:VTIMEZONE
BEGIN:VEVENT
UID:4626108:Event:544110
DTSTAMP:20260421T204054Z
SUMMARY:FREE Fabulous Networking Alton Coffee Time Online
DESCRIPTION:Fabulous Networking Alton Coffee Time Online\r\n\r\n\r\n\r
 \nAdam Buttery looks forward to welcoming you to this meeting, online 
 this month.\r\n\r\nOur Alton group is still online in 2023 which means
  that it is FREE to attend.\r\n\r\nA typical Alton agenda includes…\
 r\n\r\n\r\n\r\n\r\n\r\n\r\n\r\n\r\nInformal networking\r\nGet to know 
 you activities\r\nA speaker \r\nA business development session\r\n\r\
 nOur speaker this month will be confirmed shortly...\r\nThis is a warm
  and friendly meeting in a really supportive atmosphere. Visitors are 
 always welcome and you can attend three events before making a decisio
 n about joining.\r\nMeet your Group Leader Adam Buttery\r\nAs a Holist
 ic Therapist Adam specialises in treating pain, gently. If it hurts or
  doesn’t move Adam’s work can help. In his previous life Adam work
 ed in IT and still helps out on an occasional basis.\r\nBook your plac
 e and we’ll send you the link to the Zoom call the night before the 
 meeting.\r\nWe look forward to seeing you.\r\nCOST: FREE for Guests 
 and FN Members \r\nBOOKING: Please CLICK HERE to book, and please 
 email marketing@fabulousnetworking.co.uk  if you need more informati
 on. \r\n\r\n\r\n\r\n\r\n\n\nFor more information visit https://networ
 kinginsurrey.co.uk/events/free-fabulous-networking-alton-coffee-time-o
 nline-16
DTSTART;TZID=Europe/London:20241016T100000
DTEND;TZID=Europe/London:20241016T120000
CATEGORIES:morning, online, alton, netwinning, fabulous_networking
LOCATION:Online only
WEBSITE:
URL:
CONTACT:
ORGANIZER:Adam Buttery
ATTACH;FMTTYPE="image/jpeg":https://storage.ning.com/topology/rest/1.0
 /file/get/8275893275?profile=original
ATTENDEE;ROLE=REQ-PARTICIPANT;PARTSTAT=ACCEPTED;RSVP=TRUE;CN="Keith Gr
 over, NiS Founder":https://networkinginsurrey.co.uk/profile/KeithGrove
 r
END:VEVENT
END:VCALENDAR
