BEGIN:VCALENDAR
PRODID:NingEventWidget-v1
VERSION:2.0
METHOD:PUBLISH
BEGIN:VTIMEZONE
TZID:Europe/London
X-LIC-LOCATION:Europe/London
BEGIN:DAYLIGHT
TZOFFSETFROM:+0000
TZOFFSETTO:+0100
TZNAME:BST
DTSTART:19700329T010000
RRULE:FREQ=YEARLY;BYMONTH=3;BYDAY=-1SU
END:DAYLIGHT
BEGIN:STANDARD
TZOFFSETFROM:+0100
TZOFFSETTO:+0000
TZNAME:GMT
DTSTART:19701025T020000
RRULE:FREQ=YEARLY;BYMONTH=10;BYDAY=-1SU
END:STANDARD
END:VTIMEZONE
BEGIN:VEVENT
UID:4626108:Event:18614
DTSTAMP:20260423T132906Z
SUMMARY:Free Evening Teleclass - Releasing Fear
DESCRIPTION:A free teleclass on Monday 23rd May 2011 at 7pm -Â Â Â Â Â
  Â Â Â \nÂ 5 simple action steps to releasing fear.\n\nÂ Do you find i
 t hard to make a decision?Â \nDo you find yourself going round & round
  in circles getting nowhere?\nIs your mind chatter so loud it drowns o
 ut your â€˜intuitionâ€™?\nHave you allowed fear to overtake you?\nDo y
 ou seek others' opinions on what actions to take rather than trusting 
 your â€˜gutâ€™ instinct?\nDo you carry your worry beads everywhere you
  go?\nDo you look for negative signs from the universe rather than pos
 itive signs?\nCould you win an honours degree in self sabotage?\n\nIf 
 you have answered yes to several of the above questions, then this tel
 eclass topic is for you!\nFull details: http://www.qcimageconsultancy.
 co.uk/freeteleclassseries.aspx\nÂ \nÂ \n\nFor more information visit h
 ttps://networkinginsurrey.co.uk/events/free-evening-teleclass
DTSTART;TZID=Europe/London:20110523T190000
DTEND;TZID=Europe/London:20110523T200000
CATEGORIES:free, evening, teleclass
LOCATION:Your home/office
WEBSITE:http://www.qcimageconsultancy.co.uk/freeteleclassseries.aspx
URL:http://www.qcimageconsultancy.co.uk/freeteleclassseries.aspx
CONTACT:
ORGANIZER;CN="Sue Cocks":https://networkinginsurrey.co.uk/profile/SueC
 ocks
ATTACH;FMTTYPE="image/jpeg":http://storage.ning.com/topology/rest/1.0/
 file/get/2591392008?profile=original
ATTENDEE;ROLE=REQ-PARTICIPANT;PARTSTAT=ACCEPTED;RSVP=TRUE;CN="Sue Cock
 s":https://networkinginsurrey.co.uk/profile/SueCocks
END:VEVENT
END:VCALENDAR
