BEGIN:VCALENDAR
PRODID:NingEventWidget-v1
VERSION:2.0
METHOD:PUBLISH
BEGIN:VTIMEZONE
TZID:Europe/London
X-LIC-LOCATION:Europe/London
BEGIN:DAYLIGHT
TZOFFSETFROM:+0000
TZOFFSETTO:+0100
TZNAME:BST
DTSTART:19700329T010000
RRULE:FREQ=YEARLY;BYMONTH=3;BYDAY=-1SU
END:DAYLIGHT
BEGIN:STANDARD
TZOFFSETFROM:+0100
TZOFFSETTO:+0000
TZNAME:GMT
DTSTART:19701025T020000
RRULE:FREQ=YEARLY;BYMONTH=10;BYDAY=-1SU
END:STANDARD
END:VTIMEZONE
BEGIN:VEVENT
UID:4626108:Event:48116
DTSTAMP:20260425T231651Z
SUMMARY:FREE Evening Skype Call: What makes YOU flip? PART TWO
DESCRIPTION: Hi\nWhat makes YOU flip?\n\nThinking of amazing feats we 
 have witnessed during the Olympics and Paralympics...\nWhen do YOU fli
 p ?\nWhen do YOU say to yourself, ENOUGH is ENOUGH I am going to chang
 e this ?\n\nWhat makes YOU take action ?\nHow might we leverage this m
 otivation in ourselves and in those we are coaching?\nAnd how might th
 e Law of Attraction and Quantum Physics relate to this ?\nJoin us on 
 Tue 18 Sep at 7 pm UK time to explore further how our minds... conscio
 us and unconscious... and have a FLIPPING good time too! \nIf you nee
 d to know how to connect on Skype, please contact me before Tuesday by
  NiS message or calling 07778 058026...\n Thanks!\n\n\nFor more infor
 mation visit https://networkinginsurrey.co.uk/events/free-evening-skyp
 e-call-what-makes-you-flip-part-two
DTSTART;TZID=Europe/London:20120918T190000
DTEND;TZID=Europe/London:20120918T200000
CATEGORIES:free, networking, call, on, skype
LOCATION:in the comfort of your own home on Skype - my ID is paulwigle
 y
WEBSITE:http://www.howmightwe.co.uk
URL:http://www.howmightwe.co.uk
CONTACT:07778 058026
ORGANIZER;CN="Paul Wigley":https://networkinginsurrey.co.uk/profile/Pa
 ulWigley
ATTACH;FMTTYPE="image/jpeg":http://storage.ning.com/topology/rest/1.0/
 file/get/2591408468?profile=original
ATTENDEE;ROLE=REQ-PARTICIPANT;PARTSTAT=ACCEPTED;RSVP=TRUE;CN="Shân Hu
 ghes":https://networkinginsurrey.co.uk/profile/ShanHughes
ATTENDEE;ROLE=REQ-PARTICIPANT;PARTSTAT=ACCEPTED;RSVP=TRUE;CN="Paul Wig
 ley":https://networkinginsurrey.co.uk/profile/PaulWigley
END:VEVENT
END:VCALENDAR
