BEGIN:VCALENDAR
PRODID:NingEventWidget-v1
VERSION:2.0
METHOD:PUBLISH
BEGIN:VTIMEZONE
TZID:Europe/London
X-LIC-LOCATION:Europe/London
BEGIN:DAYLIGHT
TZOFFSETFROM:+0000
TZOFFSETTO:+0100
TZNAME:BST
DTSTART:19700329T010000
RRULE:FREQ=YEARLY;BYMONTH=3;BYDAY=-1SU
END:DAYLIGHT
BEGIN:STANDARD
TZOFFSETFROM:+0100
TZOFFSETTO:+0000
TZNAME:GMT
DTSTART:19701025T020000
RRULE:FREQ=YEARLY;BYMONTH=10;BYDAY=-1SU
END:STANDARD
END:VTIMEZONE
BEGIN:VEVENT
UID:4626108:Event:2883
DTSTAMP:20260425T132611Z
SUMMARY:Free Evening Netwalk - Walton on Thames
DESCRIPTION:An informal netwalk along the River Thames in Walton/Sunbu
 ry which will finish with a well-deserved drink in the Swan!\n\nBreath
 e fresh air into your networking with these free, informal and inspira
 tional networking events - in the fresh air!\nEach Netwalk lasts aroun
 d 1.5 - 2 hours with the opportunity to stay for a drink and further n
 etworking after the walk. These events are informal, energising and in
 spirational, and the perfect way to connect with like-minded business 
 owners in a relaxed environment. Details Meet: Outside The Anglers pub
  by the riverside\nBring: Business cards/flyers\nWear: Appropriate clo
 thes for walking and weather (may be a little muddy if it's been raini
 ng!)\nOptional - cash for refreshments, water\nCOST: FREE - REGISTER H
 ERE - no charge\nMORE INFO (or running late on the day!) Contact: Jenn
 y 07950 956 861\nMAP\n--------------------------------\nNetwalks in Su
 rrey are the brainchild of NiS Members Tom Evans and Jenny Littlejohn,
  and have long been enjoyed by Ecademy members.\nHere's what some of o
 ur netwalkers said :\n\"Absolutely fab, probably the best networking I
  have been to all week. Having given up the gym, I wanted to get into 
 the hang of going for walks, it was perfect. Felt a bit pooped afterwa
 rds but enjoying walking more and more.... Also, resolved a business p
 roblem! What more could you ask for!\"\n\"Great walk, very good networ
 king, loads of ideas, and super company. You've got me hooked. thank y
 ou everyone who came and thank you Jenny for organizing it.\"\n\nFor m
 ore information visit https://networkinginsurrey.co.uk/events/free-eve
 ning-netwalk-walton
DTSTART;TZID=Europe/London:20100701T173000
DTEND;TZID=Europe/London:20100701T190000
CATEGORIES:free, netwalk, evening, hampton, business_networking
LOCATION:The Anglers, Walton on Thames KT12 2PF
WEBSITE:http://www.meetup.com/BigStrides4Business/calendar/13722203/
URL:http://www.meetup.com/BigStrides4Business/calendar/13722203/
CONTACT:01932 221712
ORGANIZER:Jenny Littlejohn
ATTACH;FMTTYPE="image/jpeg":http://storage.ning.com/topology/rest/1.0/
 file/get/2591376703?profile=original
ATTENDEE;ROLE=REQ-PARTICIPANT;PARTSTAT=TENTATIVE;RSVP=TRUE;CN="Keith G
 rover, NiS Founder":https://networkinginsurrey.co.uk/profile/KeithGrov
 er
END:VEVENT
END:VCALENDAR
