BEGIN:VCALENDAR
PRODID:NingEventWidget-v1
VERSION:2.0
METHOD:PUBLISH
BEGIN:VTIMEZONE
TZID:Europe/London
X-LIC-LOCATION:Europe/London
BEGIN:DAYLIGHT
TZOFFSETFROM:+0000
TZOFFSETTO:+0100
TZNAME:BST
DTSTART:19700329T010000
RRULE:FREQ=YEARLY;BYMONTH=3;BYDAY=-1SU
END:DAYLIGHT
BEGIN:STANDARD
TZOFFSETFROM:+0100
TZOFFSETTO:+0000
TZNAME:GMT
DTSTART:19701025T020000
RRULE:FREQ=YEARLY;BYMONTH=10;BYDAY=-1SU
END:STANDARD
END:VTIMEZONE
BEGIN:VEVENT
UID:4626108:Event:19732
DTSTAMP:20260424T021809Z
SUMMARY:FREE Entrepreneurs Circle Day, Ascot
DESCRIPTION:Meet Nigel Botterill at Ascot Racecourse\n\nPlease join me
  and other like-minded small business owners  for one of the biggest 
 ever business building events in the region.\nWe are expecting more th
 an 300 ambitious business owners to join us to find out how to SUPERCH
 ARGE their success in business.\nNigel Botterill, the guy who started 
 ‘The Best Of’ franchise(the fastest growing UK franchise ever) als
 o runs five other £Million plus businesses. This event is going to be
  all about \"PRICING FOR PROFIT\" - a topic every entrepreneur needs h
 elp to get right. Nige is going to be giving you honest, practical and
  real advice you can use in your business!\nTopics covered will includ
 e:\n\nThe 7 Ultimate Price & Fee Failures\n\nThe Trick Behind Discount
 ing Without Devaluing Your Product or Service \n\nThe 4 Price Related
  Propositions That You MUST Understand in Business \n\nHow to Win Pri
 ce Wars with Competitors \n\nWhy Cutting Prices Won't Work in Difficu
 lt Times - and What Does! \n\nHow to use price to your advantage to s
 ignificantly boost your profits - whatever business you are in... ...A
 nd lots more!\n\n\nCOST: FREE to Members and visitors of Networking in
  Surrey\nYou are welcome to join me Free of charge in Ascot but it's e
 ssential that you contact me to register for admission and further det
 ails please.\nKind regards\nMike Loughton, Entrepreneurs Circle Busine
 ss Growth Advisor\nMike.Loughton@businessgrowthadvisor.co.uk01276 4514
 65   07952 330018        \nMAP\n\nFor more information visit
  https://networkinginsurrey.co.uk/events/free-entrepreneurs-circle-day
DTSTART;TZID=Europe/London:20110607T100000
DTEND;TZID=Europe/London:20110607T153000
CATEGORIES:free, seminars, ascot, entrepreneurs_circle
LOCATION:Ascot Racecourse SL5 7JX
WEBSITE:http://www.ascot.co.uk/
URL:http://www.ascot.co.uk/
CONTACT:01276 451465
ORGANIZER;CN="Mike Loughton":https://networkinginsurrey.co.uk/profile/
 MikeLoughton
ATTACH;FMTTYPE="image/jpeg":http://storage.ning.com/topology/rest/1.0/
 file/get/2591393705?profile=original
ATTENDEE;ROLE=REQ-PARTICIPANT;PARTSTAT=ACCEPTED;RSVP=TRUE;CN="Mike Lou
 ghton":https://networkinginsurrey.co.uk/profile/MikeLoughton
END:VEVENT
END:VCALENDAR
