BEGIN:VCALENDAR
PRODID:NingEventWidget-v1
VERSION:2.0
METHOD:PUBLISH
BEGIN:VTIMEZONE
TZID:Europe/London
X-LIC-LOCATION:Europe/London
BEGIN:DAYLIGHT
TZOFFSETFROM:+0000
TZOFFSETTO:+0100
TZNAME:BST
DTSTART:19700329T010000
RRULE:FREQ=YEARLY;BYMONTH=3;BYDAY=-1SU
END:DAYLIGHT
BEGIN:STANDARD
TZOFFSETFROM:+0100
TZOFFSETTO:+0000
TZNAME:GMT
DTSTART:19701025T020000
RRULE:FREQ=YEARLY;BYMONTH=10;BYDAY=-1SU
END:STANDARD
END:VTIMEZONE
BEGIN:VEVENT
UID:4626108:Event:186136
DTSTAMP:20260420T193605Z
SUMMARY:FREE Elmbridge Business Network Evening, Esher
DESCRIPTION:Elmbridge Business Network Evening Masterclass... for fre
 e!\r\n\r\nJoin us on Tuesday 20 August for an evening dedicated to ind
 ependent Elmbridge businesses.\r\nAll independent businesses welcome\r
 \nAll independent businesses in Elmbridge are invited to our latest El
 mbridge Business Network event - whether you are a member of the Elmbr
 idge Business Network or not. If you would like to join the network pl
 ease complete the online form.\r\nDon't miss the chance to:\r\n\r\n\r
 \nTake away practical tips to boost your business\r\n\r\n\r\nBuild you
 r network of connections throughout the borough\r\n\r\n\r\nFind out ab
 out the funding, advice and other support available to you\r\n\r\n\r\n
 From 6.30pm hear from a business expert as they deliver a skills maste
 rclass tailored for independent businesses.\r\nThis will be followed b
 y an opportunity to network with other attendees. It's also a great ch
 ance to find out more about the support on offer to local businesses f
 rom Elmbridge Borough Council and our partners.\r\nRetail Awards\r\nTh
 e evening will end with the awards presentation for the 2019 Elmbridge
  Independent Retailer of the Year Awards. The awards are back for thei
 r seventh successive year and give recognition to the exceptional busi
 nesses in our high streets and town centres.\r\nA new category has bee
 n added this year for environmentally sustainable retailers. To find o
 ut more about the awards please visit the Council's website.\r\nPleas
 e register for this free event.\r\nIf you have any questions about thi
 s event, the Elmbridge Business Network or support available to local 
 businesses then please email business@elmbridge.gov.uk or call 01372 4
 74 216.\r\nAttendees' details will be held by Elmbridge Borough Counci
 l. No information on individual businesses will be released without yo
 ur prior consent and all information will be processed in accordance w
 ith GDPR and the Data Protection Act 1998.\r\nCOST: FREE to local busi
 nesses\r\nBOOKING: Please CLICK HERE to book your free place\r\nMAP \
 n\nFor more information visit https://networkinginsurrey.co.uk/events/
 free-elmbridge-business-network-evening-esher
DTSTART;TZID=Europe/London:20190820T180000
DTEND;TZID=Europe/London:20190820T190000
CATEGORIES:business, advice, free, esher, evening
LOCATION:Civic Centre, Esher
WEBSITE:
URL:
CONTACT:
ORGANIZER:Doug Perkins
ATTACH;FMTTYPE="image/jpeg":https://storage.ning.com/topology/rest/1.0
 /file/get/3381055214?profile=original
ATTENDEE;ROLE=REQ-PARTICIPANT;PARTSTAT=ACCEPTED;RSVP=TRUE;CN="Lord Ham
 ilton of Glencoe":https://networkinginsurrey.co.uk/profile/BrianIanHam
 ilton
ATTENDEE;ROLE=REQ-PARTICIPANT;PARTSTAT=ACCEPTED;RSVP=TRUE;CN="Keith Gr
 over, NiS Founder":https://networkinginsurrey.co.uk/profile/KeithGrove
 r
END:VEVENT
END:VCALENDAR
