BEGIN:VCALENDAR
PRODID:NingEventWidget-v1
VERSION:2.0
METHOD:PUBLISH
BEGIN:VTIMEZONE
TZID:Europe/London
X-LIC-LOCATION:Europe/London
BEGIN:DAYLIGHT
TZOFFSETFROM:+0000
TZOFFSETTO:+0100
TZNAME:BST
DTSTART:19700329T010000
RRULE:FREQ=YEARLY;BYMONTH=3;BYDAY=-1SU
END:DAYLIGHT
BEGIN:STANDARD
TZOFFSETFROM:+0100
TZOFFSETTO:+0000
TZNAME:GMT
DTSTART:19701025T020000
RRULE:FREQ=YEARLY;BYMONTH=10;BYDAY=-1SU
END:STANDARD
END:VTIMEZONE
BEGIN:VEVENT
UID:4626108:Event:48103
DTSTAMP:20260426T021932Z
SUMMARY:FREE Dorking Business Show, Dorking
DESCRIPTION:3rd Dorking Business Show at Dorking Halls\n\nLast year th
 e Dorking Business Show, was a great success with over 65 exhibitors a
 nd hundreds of local business people attending – so we're doing it a
 gain!\nThe buzz around the hall was incredible throughout the day and 
 many deals and relationships were started because of this event. This 
 year the Dorking Chamber of Commerce has taken over the show and semin
 ars, and the Exhibition will be bigger and better!\nMake a date in you
 r diary for the third Dorking Business Show, with FREE admission to th
 e show, FREE one to one advice clinics and FREE seminars from great 
 speakers including NiS Member Vanessa Lanham Day of Entrepreneurs Cir
 cle fame.\nThis is an opportunity to meet with hundreds of other busin
 ess people, learn more about the business scene, particularly around E
 ast Surrey, and generate new contacts to strengthen your business.\nTh
 ere will also be one to one advice and support from experts that can o
 ffer practical solutions to everyday business problems and services th
 at will help you manage your business more effectively.\nIf you are an
  'early bird', don't miss the breakfast seminar before the Halls open.
 ..\n7.30am — Breakfast available\n8.00am — Breakfast Seminar — C
 hristine Griffin\nIncreasing your leadership impact through non-verbal
  communication\nThis interactive seminar will give you insights into d
 ifferent non-verbal communication styles and the messages these send t
 o others in terms of leadership.\nWith over 40 stands, representing b
 usinesses across a broad spectrum, and an exciting line up of informa
 tive seminar speakers, the Dorking Business Show is an event not to be
  missed.\nCOST: FREE to attend\nBOOK HERE: REgister FREE and book you
 r chosen FREE seminars\nMAP\n\nFor more information visit https://netw
 orkinginsurrey.co.uk/events/free-dorking-business-show-dorking
DTSTART;TZID=Europe/London:20120920T093000
DTEND;TZID=Europe/London:20120920T163000
CATEGORIES:exhibition, dorking
LOCATION:Dorking Halls, RH4 1SG
WEBSITE:http://www.dorkingbusinessshow.co.uk/#
URL:http://www.dorkingbusinessshow.co.uk/#
CONTACT:
ORGANIZER:Dorking Chamber
ATTACH;FMTTYPE="image/jpeg":http://storage.ning.com/topology/rest/1.0/
 file/get/2591381958?profile=original
ATTENDEE;ROLE=REQ-PARTICIPANT;PARTSTAT=ACCEPTED;RSVP=TRUE;CN="Keith Gr
 over, NiS Founder":https://networkinginsurrey.co.uk/profile/KeithGrove
 r
END:VEVENT
END:VCALENDAR
