BEGIN:VCALENDAR
PRODID:NingEventWidget-v1
VERSION:2.0
METHOD:PUBLISH
BEGIN:VTIMEZONE
TZID:Europe/London
X-LIC-LOCATION:Europe/London
BEGIN:DAYLIGHT
TZOFFSETFROM:+0000
TZOFFSETTO:+0100
TZNAME:BST
DTSTART:19700329T010000
RRULE:FREQ=YEARLY;BYMONTH=3;BYDAY=-1SU
END:DAYLIGHT
BEGIN:STANDARD
TZOFFSETFROM:+0100
TZOFFSETTO:+0000
TZNAME:GMT
DTSTART:19701025T020000
RRULE:FREQ=YEARLY;BYMONTH=10;BYDAY=-1SU
END:STANDARD
END:VTIMEZONE
BEGIN:VEVENT
UID:4626108:Event:537728
DTSTAMP:20260421T074010Z
SUMMARY:FREE Discover Omni Open Evening Online
DESCRIPTION:Discover Omni FREE Evening Meeting via Zoom\r\n\r\nThe Omn
 i Local Business Development Networking community is driven by looking
  out for opportunities for each other and helping each other's busines
 ses grow through using each other's goods and services, collaboration,
  advice, help, and support.\r\nWe don't just help businesses survive, 
 but THRIVE!\r\nCome along to our Discover Omni Open events and see how
  we have helped hundreds of businesses!\r\nAt these FREE events, you w
 ill discover how Omni has - \r\n\r\nHelped members through a difficul
 t time (live and personal testimonials from real members)\r\nHow the 
 meetings work when you visit us\r\nHow you can really grow your busine
 ss through membership\r\nWhy you are missing out!\r\n\r\nCOST: FREE \
 r\nBOOKING: Please REGISTER to take part here... \r\n---------------
 -----------------------\r\nFind more Omni Local Networking Groups her
 e on NiS...\r\nFor more information, please visit the Omni Local webs
 ite here...\n\nFor more information visit https://networkinginsurrey.c
 o.uk/events/free-discover-omni-open-evening-8
DTSTART;TZID=Europe/London:20230328T170000
DTEND;TZID=Europe/London:20230328T183000
CATEGORIES:evening, free, b2b, omni
LOCATION:Online only
WEBSITE:http://omnilocalbusinessnetworking.com/
URL:http://omnilocalbusinessnetworking.com/
CONTACT:07898 870 870
ORGANIZER;CN="John Gower":https://networkinginsurrey.co.uk/profile/Joh
 n
ATTACH;FMTTYPE="image/jpeg":https://storage.ning.com/topology/rest/1.0
 /file/get/11002732059?profile=original
ATTENDEE;ROLE=REQ-PARTICIPANT;PARTSTAT=ACCEPTED;RSVP=TRUE;CN="John Gow
 er":https://networkinginsurrey.co.uk/profile/John
END:VEVENT
END:VCALENDAR
