BEGIN:VCALENDAR
PRODID:NingEventWidget-v1
VERSION:2.0
METHOD:PUBLISH
BEGIN:VTIMEZONE
TZID:Europe/London
X-LIC-LOCATION:Europe/London
BEGIN:DAYLIGHT
TZOFFSETFROM:+0000
TZOFFSETTO:+0100
TZNAME:BST
DTSTART:19700329T010000
RRULE:FREQ=YEARLY;BYMONTH=3;BYDAY=-1SU
END:DAYLIGHT
BEGIN:STANDARD
TZOFFSETFROM:+0100
TZOFFSETTO:+0000
TZNAME:GMT
DTSTART:19701025T020000
RRULE:FREQ=YEARLY;BYMONTH=10;BYDAY=-1SU
END:STANDARD
END:VTIMEZONE
BEGIN:VEVENT
UID:4626108:Event:5464
DTSTAMP:20260423T155032Z
SUMMARY:FREE Craft & Small Business CHRISTMAS Fair, Banstead
DESCRIPTION:Craft & Small Business CHRISTMAS Fair, Banstead\n\n\nFREE 
 ENTRY, FREE tea, coffee, squash and biscuits. FREE Soft play area for 
 Under 6's. Photo slot with KJB Images on the day, by appointment with 
 organiser & NiS Member Wendy Ager. FREE MAD Academy singing/dance sess
 ion for pre-schoolers. ...Meet and chat with your friends while you br
 owse and kids play.\nDirect sellers, handmade items and small business
 es owners you can talk to on the day about their products.\nAll things
  you can't buy in the shops.\n\nHandmade items - jams, chutneys, bathb
 ombs and cards Children's toys & books Phoenix Trading, cards, wrap & 
 stationery Pampered Chef - high quality kitchen tools & more\nJute bag
 s - a selection of patterned & coloured jute bags\nKJB Images - photog
 rapher\nForever Living Products - Aloe Vera products\nSilverdaze - jew
 ellery\nPerfect Balance Health - nutritionist\nJewellery by Helen - ha
 ndmade jewellery\nBoola's Bakery - cupcakes, brownies and cakes\nSoulf
 ul Toaster - home accessories & gifts\n1st Impressions - kids hand and
  fingerprint casts/tree decorations\nMaya Sparkle - water crystals and
  more\nScrummie Mummie Crafts\n\nMAP\n\nFor more information visit htt
 ps://networkinginsurrey.co.uk/events/free-craft-small-business
DTSTART;TZID=Europe/London:20101127T100000
DTEND;TZID=Europe/London:20101127T140000
CATEGORIES:free, christmas_fair, banstead
LOCATION:St Peter's Church Hall, Woodmansterne SM7 3JH
WEBSITE:http://www.getbettercoaching.co.uk/Events.html
URL:http://www.getbettercoaching.co.uk/Events.html
CONTACT:
ORGANIZER:Wendy Ager
ATTACH;FMTTYPE="image/jpeg":http://storage.ning.com/topology/rest/1.0/
 file/get/2591392177?profile=original
ATTENDEE;ROLE=REQ-PARTICIPANT;PARTSTAT=ACCEPTED;RSVP=TRUE;CN="Wendy Ag
 er":https://networkinginsurrey.co.uk/profile/WendyAger
ATTENDEE;ROLE=REQ-PARTICIPANT;PARTSTAT=TENTATIVE;RSVP=TRUE;CN="Alan Ro
 gers":https://networkinginsurrey.co.uk/profile/DreamGeniusLtd
END:VEVENT
END:VCALENDAR
