BEGIN:VCALENDAR
PRODID:NingEventWidget-v1
VERSION:2.0
METHOD:PUBLISH
BEGIN:VTIMEZONE
TZID:Europe/London
X-LIC-LOCATION:Europe/London
BEGIN:DAYLIGHT
TZOFFSETFROM:+0000
TZOFFSETTO:+0100
TZNAME:BST
DTSTART:19700329T010000
RRULE:FREQ=YEARLY;BYMONTH=3;BYDAY=-1SU
END:DAYLIGHT
BEGIN:STANDARD
TZOFFSETFROM:+0100
TZOFFSETTO:+0000
TZNAME:GMT
DTSTART:19701025T020000
RRULE:FREQ=YEARLY;BYMONTH=10;BYDAY=-1SU
END:STANDARD
END:VTIMEZONE
BEGIN:VEVENT
UID:4626108:Event:409465
DTSTAMP:20260421T192004Z
SUMMARY:FREE Connections Breakfast Time Online
DESCRIPTION:FREE Surrey Connections Online - All Welcome!\r\n\r\nWe wi
 ll continue with WEEKLY meetings run by Paul Bridgland  on a Virtual 
 basis using ZOOM software, open to all, in addition toour newly return
 ed offline events (which are for Members only for now).\r\n\r\nVisitor
 s are welcome to our Thursday Specials and meetings are free. \r\nBus
 iness should be fun!\r\n\r\nCOST: FREE to take part - registration is 
 essential please \r\nBOOKING: Please follow this link...  to regist
 er for the meeting (Meeting password : 085808)\r\nCheck out our websi
 te here...\r\n-------------------------\r\n(Our in-person events are b
 ack from October onwards and are listed here on Networking in Surrey 
 BUT are exclusively Member-only for now).\n\nFor more information visi
 t https://networkinginsurrey.co.uk/events/free-connections-breakfast-t
 ime-online-6
DTSTART;TZID=Europe/London:20201022T083000
DTEND;TZID=Europe/London:20201022T100000
CATEGORIES:regular, business, networking, meeting
LOCATION:Online only
WEBSITE:
URL:
CONTACT:07799888388
ORGANIZER;CN="Paul A Bridgland":https://networkinginsurrey.co.uk/profi
 le/PaulABridgland
ATTACH;FMTTYPE="image/jpeg":https://storage.ning.com/topology/rest/1.0
 /file/get/7899178699?profile=original
ATTENDEE;ROLE=REQ-PARTICIPANT;PARTSTAT=ACCEPTED;RSVP=TRUE;CN="Paul A B
 ridgland":https://networkinginsurrey.co.uk/profile/PaulABridgland
END:VEVENT
END:VCALENDAR
