BEGIN:VCALENDAR
PRODID:NingEventWidget-v1
VERSION:2.0
METHOD:PUBLISH
BEGIN:VTIMEZONE
TZID:Europe/London
X-LIC-LOCATION:Europe/London
BEGIN:DAYLIGHT
TZOFFSETFROM:+0000
TZOFFSETTO:+0100
TZNAME:BST
DTSTART:19700329T010000
RRULE:FREQ=YEARLY;BYMONTH=3;BYDAY=-1SU
END:DAYLIGHT
BEGIN:STANDARD
TZOFFSETFROM:+0100
TZOFFSETTO:+0000
TZNAME:GMT
DTSTART:19701025T020000
RRULE:FREQ=YEARLY;BYMONTH=10;BYDAY=-1SU
END:STANDARD
END:VTIMEZONE
BEGIN:VEVENT
UID:4626108:Event:409461
DTSTAMP:20260420T184441Z
SUMMARY:FREE Connections Breakfast Time Online - NOT HAPPENING TODAY!
DESCRIPTION:PLEASE NOTE: this is a 'holding page' only - the event is 
 NOT happening today. We will only hold this virtual weekly meeting for
  people not ready to return yet when we are able to run our in-person 
 meetings again. \r\n--------------------------------------------\r\nF
 REE Surrey Connections Online - All Welcome!\r\n\r\nWe will continue w
 ith WEEKLY meetings run by Paul Bridgland  on a Virtual basis using Z
 OOM software, open to all.\r\n\r\nVisitors are welcome and meetings ar
 e free. \r\nBusiness should be fun!\r\n\r\nCOST: FREE to take part - 
 registration is essential please \r\nBOOKING: Please follow this lin
 k...  to register for the meeting (Meeting password : 085808)\r\nChec
 k out our website here...\r\n-------------------------\r\n(Our in-per
 son events are resuming in September and are listed her on Networking
  in Surrey BUT are exclusively Member-only for now).\n\nFor more infor
 mation visit https://networkinginsurrey.co.uk/events/free-connections-
 breakfast-time-online-3
DTSTART;TZID=Europe/London:20201001T000000
DTEND;TZID=Europe/London:20201001T001500
CATEGORIES:regular, business, networking, meeting
LOCATION:Online only
WEBSITE:
URL:
CONTACT:07799888388
ORGANIZER;CN="Paul A Bridgland":https://networkinginsurrey.co.uk/profi
 le/PaulABridgland
ATTACH;FMTTYPE="image/jpeg":https://storage.ning.com/topology/rest/1.0
 /file/get/7899178699?profile=original
ATTENDEE;ROLE=REQ-PARTICIPANT;PARTSTAT=ACCEPTED;RSVP=TRUE;CN="Paul A B
 ridgland":https://networkinginsurrey.co.uk/profile/PaulABridgland
END:VEVENT
END:VCALENDAR
