BEGIN:VCALENDAR
PRODID:NingEventWidget-v1
VERSION:2.0
METHOD:PUBLISH
BEGIN:VTIMEZONE
TZID:Europe/London
X-LIC-LOCATION:Europe/London
BEGIN:DAYLIGHT
TZOFFSETFROM:+0000
TZOFFSETTO:+0100
TZNAME:BST
DTSTART:19700329T010000
RRULE:FREQ=YEARLY;BYMONTH=3;BYDAY=-1SU
END:DAYLIGHT
BEGIN:STANDARD
TZOFFSETFROM:+0100
TZOFFSETTO:+0000
TZNAME:GMT
DTSTART:19701025T020000
RRULE:FREQ=YEARLY;BYMONTH=10;BYDAY=-1SU
END:STANDARD
END:VTIMEZONE
BEGIN:VEVENT
UID:4626108:Event:6173
DTSTAMP:20260423T091934Z
SUMMARY:FREE Commercial Connections Evening, Woking
DESCRIPTION:\n Business Bedfellows Commercial Connections at Gorse Hi
 ll\n \nMeet & Mingle! An informal evening of great conversations in t
 he gorgeous surroundings of this elegant Edwardian country mansion. Ne
 twork in style, and make positive business connections... THIS EVENT I
 S FREE - AND BOOKING IS ESSENTIAL!\nCLICK HERE TO BOOK\nMAP & DIRECTI
 ONS\n--------------------------------\nCommercial Connections is hoste
 d by Jo Losty and Elaine Hickmott as part of their Cool Collaboration,
  Business Bedfellows.\n\nFor more information visit https://networking
 insurrey.co.uk/events/free-commercial-connections
DTSTART;TZID=Europe/London:20110519T180000
DTEND;TZID=Europe/London:20110519T200000
CATEGORIES:free, evening, woking
LOCATION:Gorse Hill GU22 0QH
WEBSITE:http://www.devere.co.uk/our-locations/gorse-hill.html
URL:http://www.devere.co.uk/our-locations/gorse-hill.html
CONTACT:
ORGANIZER:Elaine Hickmott & Jo Losty
ATTACH;FMTTYPE="image/jpeg":http://storage.ning.com/topology/rest/1.0/
 file/get/2591389202?profile=original
ATTENDEE;ROLE=REQ-PARTICIPANT;PARTSTAT=ACCEPTED;RSVP=TRUE;CN="Philip W
 aite":https://networkinginsurrey.co.uk/profile/PhilipWaite
ATTENDEE;ROLE=REQ-PARTICIPANT;PARTSTAT=ACCEPTED;RSVP=TRUE;CN="Janet Le
 dsham":https://networkinginsurrey.co.uk/profile/JanetLedsham
ATTENDEE;ROLE=REQ-PARTICIPANT;PARTSTAT=ACCEPTED;RSVP=TRUE;CN="KEN SMAR
 T WILL WRITER":https://networkinginsurrey.co.uk/profile/KENSMART
ATTENDEE;ROLE=REQ-PARTICIPANT;PARTSTAT=ACCEPTED;RSVP=TRUE;CN="Kerry Ha
 rrison":https://networkinginsurrey.co.uk/profile/KerryHarrison
ATTENDEE;ROLE=REQ-PARTICIPANT;PARTSTAT=ACCEPTED;RSVP=TRUE;CN="Lisa Par
 kes":https://networkinginsurrey.co.uk/profile/LisaParkes
ATTENDEE;ROLE=REQ-PARTICIPANT;PARTSTAT=ACCEPTED;RSVP=TRUE;CN="Mark Law
 son":https://networkinginsurrey.co.uk/profile/MarkLawson
ATTENDEE;ROLE=REQ-PARTICIPANT;PARTSTAT=ACCEPTED;RSVP=TRUE;CN="Ian Gray
 ":https://networkinginsurrey.co.uk/profile/IanGray
ATTENDEE;ROLE=REQ-PARTICIPANT;PARTSTAT=ACCEPTED;RSVP=TRUE;CN="Keith Gr
 over, NiS Founder":https://networkinginsurrey.co.uk/profile/KeithGrove
 r
ATTENDEE;ROLE=REQ-PARTICIPANT;PARTSTAT=ACCEPTED;RSVP=TRUE;CN="Nicky Ru
 dd":https://networkinginsurrey.co.uk/profile/NickyRudd
ATTENDEE;ROLE=REQ-PARTICIPANT;PARTSTAT=ACCEPTED;RSVP=TRUE;CN="Elaine H
 ickmott":https://networkinginsurrey.co.uk/profile/ElaineHickmott
ATTENDEE;ROLE=REQ-PARTICIPANT;PARTSTAT=TENTATIVE;RSVP=TRUE;CN="Stephan
 ie Henley":https://networkinginsurrey.co.uk/profile/StephanieHenley
ATTENDEE;ROLE=REQ-PARTICIPANT;PARTSTAT=TENTATIVE;RSVP=TRUE;CN="Jane Ha
 rdy":https://networkinginsurrey.co.uk/profile/JaneHardy
END:VEVENT
END:VCALENDAR
