BEGIN:VCALENDAR
PRODID:NingEventWidget-v1
VERSION:2.0
METHOD:PUBLISH
BEGIN:VTIMEZONE
TZID:Europe/London
X-LIC-LOCATION:Europe/London
BEGIN:DAYLIGHT
TZOFFSETFROM:+0000
TZOFFSETTO:+0100
TZNAME:BST
DTSTART:19700329T010000
RRULE:FREQ=YEARLY;BYMONTH=3;BYDAY=-1SU
END:DAYLIGHT
BEGIN:STANDARD
TZOFFSETFROM:+0100
TZOFFSETTO:+0000
TZNAME:GMT
DTSTART:19701025T020000
RRULE:FREQ=YEARLY;BYMONTH=10;BYDAY=-1SU
END:STANDARD
END:VTIMEZONE
BEGIN:VEVENT
UID:4626108:Event:6211
DTSTAMP:20260424T021825Z
SUMMARY:FREE Commercial Connections Evening, Woking
DESCRIPTION:\nBusiness Bedfellows Commercial Connections at Gorse Hill
 \nMeet & Mingle! An informal evening of great conversations. Network i
 n style, and make positive business connections... THIS EVENT IS FREE 
 - AND BOOKING IS ESSENTIAL!\nCLICK HERE TO BOOK\nMAP & DIRECTIONS\n--
 ------------------------------\nCommercial Connections is hosted by Jo
  Losty and Elaine Hickmott as part of their Cool Collaboration, Busine
 ss Bedfellows.\n\nFor more information visit https://networkinginsurre
 y.co.uk/events/free-commercial-connections-1
DTSTART;TZID=Europe/London:20110217T180000
DTEND;TZID=Europe/London:20110217T200000
CATEGORIES:free, evening, woking
LOCATION:Gorse Hill GU22 0QH
WEBSITE:http://www.devere.co.uk/our-locations/gorse-hill.html
URL:http://www.devere.co.uk/our-locations/gorse-hill.html
CONTACT:
ORGANIZER:Elaine Hickmott & Jo Losty
ATTACH;FMTTYPE="image/jpeg":http://storage.ning.com/topology/rest/1.0/
 file/get/2591388621?profile=original
ATTENDEE;ROLE=REQ-PARTICIPANT;PARTSTAT=ACCEPTED;RSVP=TRUE;CN="Keith Gr
 over, NiS Founder":https://networkinginsurrey.co.uk/profile/KeithGrove
 r
ATTENDEE;ROLE=REQ-PARTICIPANT;PARTSTAT=ACCEPTED;RSVP=TRUE;CN="Carole H
 azlerigg":https://networkinginsurrey.co.uk/profile/CaroleHazlerigg
ATTENDEE;ROLE=REQ-PARTICIPANT;PARTSTAT=ACCEPTED;RSVP=TRUE;CN="Evonne B
 rown":https://networkinginsurrey.co.uk/profile/EvonneBrown
ATTENDEE;ROLE=REQ-PARTICIPANT;PARTSTAT=ACCEPTED;RSVP=TRUE;CN="Rowan Jo
 hnson":https://networkinginsurrey.co.uk/profile/RowanJohnson
ATTENDEE;ROLE=REQ-PARTICIPANT;PARTSTAT=ACCEPTED;RSVP=TRUE;CN="Nigel De
 venish":https://networkinginsurrey.co.uk/profile/NigelDevenish
ATTENDEE;ROLE=REQ-PARTICIPANT;PARTSTAT=ACCEPTED;RSVP=TRUE;CN="Mark Law
 son":https://networkinginsurrey.co.uk/profile/MarkLawson
ATTENDEE;ROLE=REQ-PARTICIPANT;PARTSTAT=ACCEPTED;RSVP=TRUE;CN="Richard 
 Golding":https://networkinginsurrey.co.uk/profile/RichardGolding
ATTENDEE;ROLE=REQ-PARTICIPANT;PARTSTAT=TENTATIVE;RSVP=TRUE;CN="Jane Ha
 rdy":https://networkinginsurrey.co.uk/profile/JaneHardy
END:VEVENT
END:VCALENDAR
