BEGIN:VCALENDAR
PRODID:NingEventWidget-v1
VERSION:2.0
METHOD:PUBLISH
BEGIN:VTIMEZONE
TZID:Europe/London
X-LIC-LOCATION:Europe/London
BEGIN:DAYLIGHT
TZOFFSETFROM:+0000
TZOFFSETTO:+0100
TZNAME:BST
DTSTART:19700329T010000
RRULE:FREQ=YEARLY;BYMONTH=3;BYDAY=-1SU
END:DAYLIGHT
BEGIN:STANDARD
TZOFFSETFROM:+0100
TZOFFSETTO:+0000
TZNAME:GMT
DTSTART:19701025T020000
RRULE:FREQ=YEARLY;BYMONTH=10;BYDAY=-1SU
END:STANDARD
END:VTIMEZONE
BEGIN:VEVENT
UID:4626108:Event:68421
DTSTAMP:20260419T153128Z
SUMMARY:Free Co-Working Jelly Day,Walton-on-Thames
DESCRIPTION:Please join us (FREE!) for our  co-working jelly at The D
 igital Hub...\n\nThe aim is  for independent workers coming together 
 to collaborate and reap the rewards of community, increased productivi
 ty and creativity.\nWe can provide workstations, fast internet connect
 ivity and complimentary tea, coffee and biscuits... Just bring your la
 ptop power and phone!\nThe Digital Work Hub is located on New Zealand 
 Avenue above the parade of shops.\nCOST:  Free to attend - but please
  book!\nBOOKING: Please CLICK HERE to book \nMAP\nCar Parks at The H
 eart Shopping Centre (£3.50 for 4 hours pay on departure) or Ashley 
 Park Avenue (turn as for Homebase, but go straight on past the store
  car park entrance - £4 per day pay and display) \n\nFor more infor
 mation visit https://networkinginsurrey.co.uk/events/free-co-working-j
 elly-walton-on-thames
DTSTART;TZID=Europe/London:20140916T100000
DTEND;TZID=Europe/London:20140916T160000
CATEGORIES:co-working, walton_on_thames
LOCATION:The Digital Work Hub, KT12 1QA
WEBSITE:http://www.thedigitalworkhub.co.uk
URL:http://www.thedigitalworkhub.co.uk
CONTACT:01932 881282
ORGANIZER;CN="Lorraine Spagatner":https://networkinginsurrey.co.uk/pro
 file/LorraineSpagatner
ATTACH;FMTTYPE="image/jpeg":http://storage.ning.com/topology/rest/1.0/
 file/get/2591433625?profile=original
ATTENDEE;ROLE=REQ-PARTICIPANT;PARTSTAT=ACCEPTED;RSVP=TRUE;CN="Lorraine
  Spagatner":https://networkinginsurrey.co.uk/profile/LorraineSpagatner
END:VEVENT
END:VCALENDAR
