BEGIN:VCALENDAR
PRODID:NingEventWidget-v1
VERSION:2.0
METHOD:PUBLISH
BEGIN:VTIMEZONE
TZID:Europe/London
X-LIC-LOCATION:Europe/London
BEGIN:DAYLIGHT
TZOFFSETFROM:+0000
TZOFFSETTO:+0100
TZNAME:BST
DTSTART:19700329T010000
RRULE:FREQ=YEARLY;BYMONTH=3;BYDAY=-1SU
END:DAYLIGHT
BEGIN:STANDARD
TZOFFSETFROM:+0100
TZOFFSETTO:+0000
TZNAME:GMT
DTSTART:19701025T020000
RRULE:FREQ=YEARLY;BYMONTH=10;BYDAY=-1SU
END:STANDARD
END:VTIMEZONE
BEGIN:VEVENT
UID:4626108:Event:18735
DTSTAMP:20260424T050939Z
SUMMARY:FREE CIM Surrey Marketers Evening, Guildford
DESCRIPTION:Networking wih CIM at The Boatman\n\nThis month we have tw
 o speakers and a business coach offering FREE coaching sessions.\nThe 
 Surrey branch 'meet with drinks' is a networking event is for anyone l
 iving or working in Surrey who works directly or indirectly in marketi
 ng to meet others in the industry in an informal environment to share 
 knowledge and meet new people.\nBusiness coaching taster sessions:\nBu
 siness coach Jill McCulloch will be offering FREE taster business coac
 hing sessions - first come first served so arrive early.\nTalks:\nCrea
 ting a Compelling Online Brand – Sumi Olson Business Growth Consulta
 nt, How creating a compelling online brand can raise your visibility, 
 enhance your reputation and attract new clients.\nRoyal Wedding - Winn
 ers and Losers\nRachel Taylor - Ignite Communications Ltd. Who leverag
 ed this national event, and what we can learn from it.\nCOST: FREE - o
 pen to all\nMAP\n\nFor more information visit https://networkinginsurr
 ey.co.uk/events/free-cim-surrey-marketers
DTSTART;TZID=Europe/London:20110609T190000
DTEND;TZID=Europe/London:20110609T220000
CATEGORIES:free, cim, guildford, evening
LOCATION:The Boatman GU1 3XJ
WEBSITE:http://maps.google.com/maps?f=q&source=s_q&hl=en&geocode=&q=Gu
 ildford+Surrey+GU1+3XJ&aq=&sll=37.0625,-95.677068&sspn=34.534108,68.46
 6797&ie=UTF8&hq=&hnear=Guildford,+Surrey+GU1+3XJ,+United+Kingdom&z=16
URL:http://maps.google.com/maps?f=q&source=s_q&hl=en&geocode=&q=Guildf
 ord+Surrey+GU1+3XJ&aq=&sll=37.0625,-95.677068&sspn=34.534108,68.466797
 &ie=UTF8&hq=&hnear=Guildford,+Surrey+GU1+3XJ,+United+Kingdom&z=16
CONTACT:07872 337 407
ORGANIZER;CN="Lynzi Ashworth":https://networkinginsurrey.co.uk/profile
 /LynziAshworth
ATTACH;FMTTYPE="image/jpeg":http://storage.ning.com/topology/rest/1.0/
 file/get/2591391137?profile=original
ATTENDEE;ROLE=REQ-PARTICIPANT;PARTSTAT=ACCEPTED;RSVP=TRUE;CN="Lynzi As
 hworth":https://networkinginsurrey.co.uk/profile/LynziAshworth
ATTENDEE;ROLE=REQ-PARTICIPANT;PARTSTAT=ACCEPTED;RSVP=TRUE;CN="Simon Lo
 ngman":https://networkinginsurrey.co.uk/profile/SimonLongman
ATTENDEE;ROLE=REQ-PARTICIPANT;PARTSTAT=ACCEPTED;RSVP=TRUE;CN="Stewart 
 Graham":https://networkinginsurrey.co.uk/profile/StewartGraham
ATTENDEE;ROLE=REQ-PARTICIPANT;PARTSTAT=TENTATIVE;RSVP=TRUE;CN="Keith G
 rover, NiS Founder":https://networkinginsurrey.co.uk/profile/KeithGrov
 er
ATTENDEE;ROLE=REQ-PARTICIPANT;PARTSTAT=TENTATIVE;RSVP=TRUE;CN="Simon S
 trong":https://networkinginsurrey.co.uk/profile/SimonStrong
ATTENDEE;ROLE=REQ-PARTICIPANT;PARTSTAT=TENTATIVE;RSVP=TRUE;CN="Stephan
 ie Henley":https://networkinginsurrey.co.uk/profile/StephanieHenley
ATTENDEE;ROLE=REQ-PARTICIPANT;PARTSTAT=TENTATIVE;RSVP=TRUE;CN="Rob 'Ap
 p' Mead":https://networkinginsurrey.co.uk/profile/RobAppMead
END:VEVENT
END:VCALENDAR
