BEGIN:VCALENDAR
PRODID:NingEventWidget-v1
VERSION:2.0
METHOD:PUBLISH
BEGIN:VTIMEZONE
TZID:Europe/London
X-LIC-LOCATION:Europe/London
BEGIN:DAYLIGHT
TZOFFSETFROM:+0000
TZOFFSETTO:+0100
TZNAME:BST
DTSTART:19700329T010000
RRULE:FREQ=YEARLY;BYMONTH=3;BYDAY=-1SU
END:DAYLIGHT
BEGIN:STANDARD
TZOFFSETFROM:+0100
TZOFFSETTO:+0000
TZNAME:GMT
DTSTART:19701025T020000
RRULE:FREQ=YEARLY;BYMONTH=10;BYDAY=-1SU
END:STANDARD
END:VTIMEZONE
BEGIN:VEVENT
UID:4626108:Event:70005
DTSTAMP:20260423T064855Z
SUMMARY:FREE Christmas Drinks, Evening, Walton-on-Thames
DESCRIPTION:Please join us (FREE!) for Christmas Drinks and Minced Pie
 s\n\nYou are invited to celebrate Christmas with The Digital Work Hu
 b & Bluebell Web Solutions.\nPlease help us to get into the Christma
 s Spirit and join us for Minced Pies and festive drinks \nCOST:  Fre
 e to attend - but please book!\nBOOKING: Please CLICK HERE to book  
  \nMAP\nCar Parks at The Heart Shopping Centre (£3.50 for 4 hours pa
 y on departure) or Ashley Park Avenue (turn as for Homebase, but go
  straight on past the store car park entrance - £4 per day pay and d
 isplay) \n\nFor more information visit https://networkinginsurrey.co.
 uk/events/free-christmas-drinks-evening-walton-on-thames
DTSTART;TZID=Europe/London:20141210T180000
DTEND;TZID=Europe/London:20141210T210000
CATEGORIES:christmas, drink, walton_on_thames
LOCATION:The Digital Work Hub, KT12 1QA
WEBSITE:http://www.thedigitalworkhub.co.uk
URL:http://www.thedigitalworkhub.co.uk
CONTACT:01932 881282
ORGANIZER;CN="Lorraine Spagatner":https://networkinginsurrey.co.uk/pro
 file/LorraineSpagatner
ATTACH;FMTTYPE="image/jpeg":http://storage.ning.com/topology/rest/1.0/
 file/get/2591433625?profile=original
ATTENDEE;ROLE=REQ-PARTICIPANT;PARTSTAT=ACCEPTED;RSVP=TRUE;CN="Lorraine
  Spagatner":https://networkinginsurrey.co.uk/profile/LorraineSpagatner
ATTENDEE;ROLE=REQ-PARTICIPANT;PARTSTAT=TENTATIVE;RSVP=TRUE;CN="Lord Ha
 milton of Glencoe":https://networkinginsurrey.co.uk/profile/BrianIanHa
 milton
END:VEVENT
END:VCALENDAR
