BEGIN:VCALENDAR
PRODID:NingEventWidget-v1
VERSION:2.0
METHOD:PUBLISH
BEGIN:VTIMEZONE
TZID:Europe/London
X-LIC-LOCATION:Europe/London
BEGIN:DAYLIGHT
TZOFFSETFROM:+0000
TZOFFSETTO:+0100
TZNAME:BST
DTSTART:19700329T010000
RRULE:FREQ=YEARLY;BYMONTH=3;BYDAY=-1SU
END:DAYLIGHT
BEGIN:STANDARD
TZOFFSETFROM:+0100
TZOFFSETTO:+0000
TZNAME:GMT
DTSTART:19701025T020000
RRULE:FREQ=YEARLY;BYMONTH=10;BYDAY=-1SU
END:STANDARD
END:VTIMEZONE
BEGIN:VEVENT
UID:4626108:Event:526549
DTSTAMP:20260420T185526Z
SUMMARY:FREE Canva for Beginners Morning Workshop
DESCRIPTION:Enhance Your Social Media Posts With Canva \r\n\r\nCanva 
 is a graphic design platform that allows users to create social media 
 graphics, presentations, posters and other visual content \r\nWhy: To 
 enhance your social media posts and marketing\r\nWhat: By the end of t
 his interactive, fun participatory session attendees will be able to c
 reate a visually engaging image to use on a social media platform of t
 heir choice.\r\nWhen: 1 hour (2nd Saturday and 4th Monday of each mont
 h)\r\nWho: Individuals new to Canva, this is an introduction\r\nWhere:
  Zoom\r\nSpaces: 8\r\nAnd also included: a follow-up Wakelet board wil
 l be sent to you to share a design for me to assess and offer feedback
 . For members of my private Facebook group there is also a free 15-
 minute phone call and they can return as guests to future sessions. \
 r\nCan't make the date? A half-hour bespoke session for Canva or for 
 social media support is £35 and £60 for 1 hour, please book here a
 nd I will send my paypal info.\r\nLook forward to creating with you.\r
 \nJane Tyson\r\nCOST: FREE subject to availability\r\nBOOKING: Please
  CLICK HERE to book your place\n\nFor more information visit https://n
 etworkinginsurrey.co.uk/events/free-canva-for-beginners-morning-worksh
 op
DTSTART;TZID=Europe/London:20210410T093000
DTEND;TZID=Europe/London:20210410T103000
CATEGORIES:workshop
LOCATION:Online
WEBSITE:https://www.eventbrite.co.uk/e/enhance-your-social-media-and-m
 arketing-with-canva-an-introduction-tickets-115166012644
URL:https://www.eventbrite.co.uk/e/enhance-your-social-media-and-marke
 ting-with-canva-an-introduction-tickets-115166012644
CONTACT:07768 392686
ORGANIZER:Jane Tyson
ATTACH;FMTTYPE="image/jpeg":https://storage.ning.com/topology/rest/1.0
 /file/get/8524063257?profile=original
ATTENDEE;ROLE=REQ-PARTICIPANT;PARTSTAT=ACCEPTED;RSVP=TRUE;CN="Jane Tys
 on":https://networkinginsurrey.co.uk/profile/JaneTyson
ATTENDEE;ROLE=REQ-PARTICIPANT;PARTSTAT=ACCEPTED;RSVP=TRUE;CN="Keith Gr
 over, NiS Founder":https://networkinginsurrey.co.uk/profile/KeithGrove
 r
END:VEVENT
END:VCALENDAR
