BEGIN:VCALENDAR
PRODID:NingEventWidget-v1
VERSION:2.0
METHOD:PUBLISH
BEGIN:VTIMEZONE
TZID:Europe/London
X-LIC-LOCATION:Europe/London
BEGIN:DAYLIGHT
TZOFFSETFROM:+0000
TZOFFSETTO:+0100
TZNAME:BST
DTSTART:19700329T010000
RRULE:FREQ=YEARLY;BYMONTH=3;BYDAY=-1SU
END:DAYLIGHT
BEGIN:STANDARD
TZOFFSETFROM:+0100
TZOFFSETTO:+0000
TZNAME:GMT
DTSTART:19701025T020000
RRULE:FREQ=YEARLY;BYMONTH=10;BYDAY=-1SU
END:STANDARD
END:VTIMEZONE
BEGIN:VEVENT
UID:4626108:Event:526950
DTSTAMP:20260422T132821Z
SUMMARY:FREE CANVA For Beginners Coffee Morning
DESCRIPTION:Enhance Your Social Media Posts With Canva \n\nCanva is a
  graphic design platform that allows users to create social media grap
 hics, presentations, posters and other visual content\nWhy: To enhanc
 e your social media posts and marketing\nWhat: By the end of this int
 eractive, fun participatory session attendees will be able to create a
  visually engaging image to use on a social media platform of their ch
 oice.\nWhen: 1 hour (2nd Saturday of each month)\nWho: Individuals n
 ew to Canva, this is an introduction\nWhere: Zoom\nSpaces: 8\nPrice
 : Pay what you feel\nAnd also included: a follow-up Wakelet board will
  be sent to you to share a design for me to assess and offer feedback.
  For members of my private Facebook group there is also a free 15-mi
 nute phone call and they can return as guests to future sessions. \nC
 an't make the date? A forty-minute bespoke session for Canva or for s
 ocial media support is £40 and £60 for a creative catalyst hour\nI l
 ook forward to creating with you.\nJane Tyson\nCOST: FREE\nBOOKING: Pl
 ease CLICK HERE to register.\n\nFor more information visit https://n
 etworkinginsurrey.co.uk/events/free-canva-for-beginners-coffee-morning
DTSTART;TZID=Europe/London:20210612T093000
DTEND;TZID=Europe/London:20210612T103000
CATEGORIES:canva, for, beginners, coffee, morning
LOCATION:Zoom
WEBSITE:https://www.eventbrite.co.uk/e/canva-coffee-morning-for-beginn
 ers-tickets-115166012644
URL:https://www.eventbrite.co.uk/e/canva-coffee-morning-for-beginners-
 tickets-115166012644
CONTACT:07768 392686
ORGANIZER;CN="Jane Tyson":https://networkinginsurrey.co.uk/profile/Jan
 eTyson
ATTACH;FMTTYPE="image/jpeg":https://storage.ning.com/topology/rest/1.0
 /file/get/8816440083?profile=original
ATTENDEE;ROLE=REQ-PARTICIPANT;PARTSTAT=ACCEPTED;RSVP=TRUE;CN="Jane Tys
 on":https://networkinginsurrey.co.uk/profile/JaneTyson
END:VEVENT
END:VCALENDAR
