BEGIN:VCALENDAR
PRODID:NingEventWidget-v1
VERSION:2.0
METHOD:PUBLISH
BEGIN:VTIMEZONE
TZID:Europe/London
X-LIC-LOCATION:Europe/London
BEGIN:DAYLIGHT
TZOFFSETFROM:+0000
TZOFFSETTO:+0100
TZNAME:BST
DTSTART:19700329T010000
RRULE:FREQ=YEARLY;BYMONTH=3;BYDAY=-1SU
END:DAYLIGHT
BEGIN:STANDARD
TZOFFSETFROM:+0100
TZOFFSETTO:+0000
TZNAME:GMT
DTSTART:19701025T020000
RRULE:FREQ=YEARLY;BYMONTH=10;BYDAY=-1SU
END:STANDARD
END:VTIMEZONE
BEGIN:VEVENT
UID:4626108:Event:18178
DTSTAMP:20260424T115755Z
SUMMARY:FREE: Business Intros 'Cashback' Networking Evening, Guildford
DESCRIPTION:Launch Event: Business Intros Networking at the Guildford 
 Parkway\n\nLaunched in Sussex in April 2011, Business Intros 'Cashbac
 k' Networking is a new style of Business Networking, where everybody g
 ains.\nYou make referrals to other members of the group - and get paid
  for them!  Result?  Lots of happy people, working to promote each 
 other's businesses and being rewarded for helping each other to find n
 ew and satisfied customers. It really is a 'Win-Win' situation all rou
 nd.\nToday's topic: How many networking groups are there in Surrey? Ke
 ith Grover will be looking at your options and suggesting how to choos
 e the networking events that suit you best....  \n \nCOST: Free t
 o attend\nIf you'd like to come and join us, it's free, but please dro
 p an email to keith@networkinginsurrey.co.uk so we can let the venue
  know out of courtesy how much room we will need!\nMAP take the small
  entrance turnoff to the left of The Spectrum Leisure Centre entrance 
 on the map (opposite side to Lido Road). Parking is free, but there is
  currently construction taking place which may limit the spaces availa
 ble. As a fallback option, the Spectrum's large free car park is only
  a short stroll away.\n ---------------------------------------------
 -\nBusiness Intros meetings take place twice monthly between 5pm to
  7pm so there are no more early mornings - and you're still home in t
 ime to see the family and have dinner! Business Intros is looking fo
 r new Group Leaders who will get commission payments for running meeti
 ngs - please come along to find out more... Click here to watch the Bu
 siness Intros Cashback Networking video\n\nFor more information visit 
 https://networkinginsurrey.co.uk/events/free-business-intros-cashback
DTSTART;TZID=Europe/London:20110614T170000
DTEND;TZID=Europe/London:20110614T190000
CATEGORIES:free, launch, guildford, evening
LOCATION:The Premier Inn Table Restaurant GU1 1UP
WEBSITE:http://www.business-intros.com/
URL:http://www.business-intros.com/
CONTACT:01932 845814
ORGANIZER;CN="Keith Grover, NiS Founder":https://networkinginsurrey.co
 .uk/profile/KeithGrover
ATTACH;FMTTYPE="image/jpeg":http://storage.ning.com/topology/rest/1.0/
 file/get/2591391487?profile=original
ATTENDEE;ROLE=REQ-PARTICIPANT;PARTSTAT=ACCEPTED;RSVP=TRUE;CN="Keith Gr
 over, NiS Founder":https://networkinginsurrey.co.uk/profile/KeithGrove
 r
ATTENDEE;ROLE=REQ-PARTICIPANT;PARTSTAT=TENTATIVE;RSVP=TRUE;CN="Rob 'Ap
 p' Mead":https://networkinginsurrey.co.uk/profile/RobAppMead
ATTENDEE;ROLE=REQ-PARTICIPANT;PARTSTAT=TENTATIVE;RSVP=TRUE;CN="Philip 
 Beato":https://networkinginsurrey.co.uk/profile/PhilipBeato
END:VEVENT
END:VCALENDAR
