BEGIN:VCALENDAR
PRODID:NingEventWidget-v1
VERSION:2.0
METHOD:PUBLISH
BEGIN:VTIMEZONE
TZID:Europe/London
X-LIC-LOCATION:Europe/London
BEGIN:DAYLIGHT
TZOFFSETFROM:+0000
TZOFFSETTO:+0100
TZNAME:BST
DTSTART:19700329T010000
RRULE:FREQ=YEARLY;BYMONTH=3;BYDAY=-1SU
END:DAYLIGHT
BEGIN:STANDARD
TZOFFSETFROM:+0100
TZOFFSETTO:+0000
TZNAME:GMT
DTSTART:19701025T020000
RRULE:FREQ=YEARLY;BYMONTH=10;BYDAY=-1SU
END:STANDARD
END:VTIMEZONE
BEGIN:VEVENT
UID:4626108:Event:75059
DTSTAMP:20260426T031404Z
SUMMARY:Free Business Continuity Afternoon/Evening Workshop, Cobham
DESCRIPTION:Do you have a Business Continuity plan?\n From flooding, t
 o fire, snow or power loss we can all recall events that have seriousl
 y impacted businesses over the recent years. These events can be manag
 ed through a process called Business Continuity planning.\nAt its simp
 lest, business continuity is about coping with disruption which could 
 occur due to fire, flood, snow, IT failure, power loss or from major e
 vents such as falling aircraft, disease or personal attack etc.\nJoin 
 us for a free workshop led by Russell Price from the Continuity Forum 
 that will help equip you with the background, knowledge and tools to e
 nsure that you can make a quick return to 'business as usual' in the e
 vent of an incident, interruption or minor/major crisis.\nRefreshments
  and pastries will be available upon arrival.\nCOST: Free to Elmbridge
  businesses.\nBOOKING: Please CLICK HERE to book your free place\nMA
 P Plenty of free parking available\n\nFor more information visit https
 ://networkinginsurrey.co.uk/events/free-business-continuity-workshop-c
 obham
DTSTART;TZID=Europe/London:20151022T160000
DTEND;TZID=Europe/London:20151022T193000
CATEGORIES:workshop, free, business, advice, cobham
LOCATION:Silvermere Golf Club
WEBSITE:https://www.silvermere-golf.co.uk/
URL:https://www.silvermere-golf.co.uk/
CONTACT:01372 474176
ORGANIZER:Doug Perkins, Elmbridge Borough Council
ATTACH;FMTTYPE="image/jpeg":http://storage.ning.com/topology/rest/1.0/
 file/get/2591377977?profile=original
ATTENDEE;ROLE=REQ-PARTICIPANT;PARTSTAT=ACCEPTED;RSVP=TRUE;CN="Doug Per
 kins":https://networkinginsurrey.co.uk/profile/DougPerkins
END:VEVENT
END:VCALENDAR
