BEGIN:VCALENDAR
PRODID:NingEventWidget-v1
VERSION:2.0
METHOD:PUBLISH
BEGIN:VTIMEZONE
TZID:Europe/London
X-LIC-LOCATION:Europe/London
BEGIN:DAYLIGHT
TZOFFSETFROM:+0000
TZOFFSETTO:+0100
TZNAME:BST
DTSTART:19700329T010000
RRULE:FREQ=YEARLY;BYMONTH=3;BYDAY=-1SU
END:DAYLIGHT
BEGIN:STANDARD
TZOFFSETFROM:+0100
TZOFFSETTO:+0000
TZNAME:GMT
DTSTART:19701025T020000
RRULE:FREQ=YEARLY;BYMONTH=10;BYDAY=-1SU
END:STANDARD
END:VTIMEZONE
BEGIN:VEVENT
UID:4626108:Event:4298
DTSTAMP:20260422T161759Z
SUMMARY:FREE Business Biscotti Networking Morning - Caterham, Surrey
DESCRIPTION:\nBusiness Biscotti is what networking is all about â€“ me
 eting and forming business relationships with like-minded people. We l
 ike to think we provide an antidote to formal networking. At Biscotti 
 youâ€™ll find: Itâ€™s free! Informal networking for all You can come a
 nd go when you like Just buy yourself a cup of tea, coffee etc \nThere
  are no limits on who can attend:\nAll professions and any number of t
 he same\nMen & women welcome\n\nWe feel that open networking allows yo
 u to forge the relationships you need to do business with each other. 
 You make the contacts, we provide the environment.\n\nArrive at any ti
 me between 9.00am and 11.00am and leave at your leisure. Because there
  is no formal start, finish or set agenda you can make it work for you
 .\n\nItâ€™s all about relationships and trust â€“ building both takes 
 time and effort but the rewards are limitless. At Business Biscotti we
  are passionate about true networking. Not just making lots of contact
 s and filling up your business card box, anyone can do that. Itâ€™s ab
 out communication, trust and building relationships that lead to lasti
 ng and mutually rewarding business.\n\nSo put the date in your diary â
 €“ please come along and bring anyone you think will benefit. Just dip
  in and out as you please. The meeting and the philosophy are simple; 
 if you want to network, make contacts and forge business relationships
  in an informal environment try Business Biscotti.\n\nFor more informa
 tion visit https://networkinginsurrey.co.uk/events/free-business-bisco
 tti
DTSTART;TZID=Europe/London:20110427T090000
DTEND;TZID=Europe/London:20110427T110000
CATEGORIES:networking
LOCATION:Bronzeoak Business Centre
WEBSITE:http://www.bronzeoakbusinesscentre.co.uk/find_us.php
URL:http://www.bronzeoakbusinesscentre.co.uk/find_us.php
CONTACT:01883 332 600
ORGANIZER:Lyn French and Darren Wanell
ATTACH;FMTTYPE="image/jpeg":http://storage.ning.com/topology/rest/1.0/
 file/get/2591389161?profile=original
ATTENDEE;ROLE=REQ-PARTICIPANT;PARTSTAT=ACCEPTED;RSVP=TRUE;CN="Sam Mill
 ard":https://networkinginsurrey.co.uk/profile/SamMillard
ATTENDEE;ROLE=REQ-PARTICIPANT;PARTSTAT=ACCEPTED;RSVP=TRUE;CN="Lyn Fren
 ch":https://networkinginsurrey.co.uk/profile/LynFrench
ATTENDEE;ROLE=REQ-PARTICIPANT;PARTSTAT=ACCEPTED;RSVP=TRUE;CN="Alan Rog
 ers":https://networkinginsurrey.co.uk/profile/DreamGeniusLtd
ATTENDEE;ROLE=REQ-PARTICIPANT;PARTSTAT=TENTATIVE;RSVP=TRUE;CN="Barry K
 irkwood":https://networkinginsurrey.co.uk/profile/BarryKirkwood
ATTENDEE;ROLE=REQ-PARTICIPANT;PARTSTAT=TENTATIVE;RSVP=TRUE;CN="Wendy A
 ger":https://networkinginsurrey.co.uk/profile/WendyAger
END:VEVENT
END:VCALENDAR
