BEGIN:VCALENDAR
PRODID:NingEventWidget-v1
VERSION:2.0
METHOD:PUBLISH
BEGIN:VTIMEZONE
TZID:Europe/London
X-LIC-LOCATION:Europe/London
BEGIN:DAYLIGHT
TZOFFSETFROM:+0000
TZOFFSETTO:+0100
TZNAME:BST
DTSTART:19700329T010000
RRULE:FREQ=YEARLY;BYMONTH=3;BYDAY=-1SU
END:DAYLIGHT
BEGIN:STANDARD
TZOFFSETFROM:+0100
TZOFFSETTO:+0000
TZNAME:GMT
DTSTART:19701025T020000
RRULE:FREQ=YEARLY;BYMONTH=10;BYDAY=-1SU
END:STANDARD
END:VTIMEZONE
BEGIN:VEVENT
UID:4626108:Event:38381
DTSTAMP:20260421T022835Z
SUMMARY:FREE BUSINESS BISCOTTI WOKING
DESCRIPTION:Free Networking at Gorse Hill\n\nBusiness Biscotti is what
  networking is all about – meeting and forming business relationship
 s with like minded people.\n Our philosophy is about building relatio
 nships and these regular meetings offer a relaxed way to meet other lo
 cal businesses without commitment to an annual membership. No need to 
 pre-book, just turn up on the day - we look forward to seeing you ther
 e! No joining fee, no formality, just turn up and enjoy.\n The Woking
  group (2nd Thursday of each month, at the prestigious De Vere Gorse H
 Ill country house hotel) is hosted by NiS Member Jane Hardy who will 
 meet and greet you on the day, and introduce you to other Biscotti mem
 bers.\nBOOKING: No need to book - just turn up. Don't forget your busi
 ness cards - and a smile!\nCOST: Free to attend - just pay for your te
 a and coffee. For more information, please call Jane Hardy on 07768 19
 7507.\n MAP & DIRECTIONS\n---------------------------- Business Bisco
 tti has grown into a community of business people who now provide supp
 ort, guidance, help and trading opportunities for one another. We have
  many groups, more are starting all the time, and an Online Community 
 - www.businessbiscotti.co.uk\n\nFor more information visit https://net
 workinginsurrey.co.uk/events/free-business-biscotti-woking
DTSTART;TZID=Europe/London:20111208T093000
DTEND;TZID=Europe/London:20111209T113000
CATEGORIES:free, networking
LOCATION:Gorse Hill GU22 0QH
WEBSITE:http://de-vere-venues-gorse.hotel-rn.com/?lbl=ggl
URL:http://de-vere-venues-gorse.hotel-rn.com/?lbl=ggl
CONTACT:07768 197507
ORGANIZER;CN="Jane Hardy":https://networkinginsurrey.co.uk/profile/Jan
 eHardy
ATTACH;FMTTYPE="image/jpeg":http://storage.ning.com/topology/rest/1.0/
 file/get/2591391145?profile=original
ATTENDEE;ROLE=REQ-PARTICIPANT;PARTSTAT=ACCEPTED;RSVP=TRUE;CN="Jane Har
 dy":https://networkinginsurrey.co.uk/profile/JaneHardy
END:VEVENT
END:VCALENDAR
