BEGIN:VCALENDAR
PRODID:NingEventWidget-v1
VERSION:2.0
METHOD:PUBLISH
BEGIN:VTIMEZONE
TZID:Europe/London
X-LIC-LOCATION:Europe/London
BEGIN:DAYLIGHT
TZOFFSETFROM:+0000
TZOFFSETTO:+0100
TZNAME:BST
DTSTART:19700329T010000
RRULE:FREQ=YEARLY;BYMONTH=3;BYDAY=-1SU
END:DAYLIGHT
BEGIN:STANDARD
TZOFFSETFROM:+0100
TZOFFSETTO:+0000
TZNAME:GMT
DTSTART:19701025T020000
RRULE:FREQ=YEARLY;BYMONTH=10;BYDAY=-1SU
END:STANDARD
END:VTIMEZONE
BEGIN:VEVENT
UID:4626108:Event:4276
DTSTAMP:20260422T115925Z
SUMMARY:FREE Business Biscotti Morning, Wentworth Golf Club
DESCRIPTION:Business Biscotti at Wentworth Golf Club\n\nNetworking wit
 h Business Biscotti is different. We want people to enter into meaning
 ful business relationships and gain business, but also to put somethin
 g back by participating and contributing to the Community, for the ben
 efit of all of us. Business Biscotti is different from other networkin
 g organisations – as its philosophy is to SUPPORT neighbourhood mark
 eting principles; ie to think globally but to do business locally.\nBO
 OKING - No need to book - just show up!\nCOST FREE to attend - just pa
 y £2.50 for unlimited tea and coffee\nMAP\nParking - drive past the c
 lubhouse entrance to the car parks.\nWentworthe business Biscotti is o
 rganised by NiS Member Tina Williams and Martin Horswood. This lovely 
 venue adds a touch of class to the networking scene! The Club Lounge i
 s an elegant & adaptable setting for special events & is the preferred
  backdrop for pre-dinner drinks. Tina and Martin have managed to persu
 ade the club to let us use their Members Only GRILL ROOM or BAR after 
 our meetings if you wish to carry on networking and have lunch or a sn
 ack. It is quite delightful - and be sure to take a look at the Cockta
 il Bar!\n----------------------------\nBusiness Biscotti has grown int
 o a community of business people who now provide support, guidance, he
 lp and trading opportunities for one another. We have many groups, mor
 e are starting all the time, and an Online Community - www.businessbis
 cotti.co.uk\n\nFor more information visit https://networkinginsurrey.c
 o.uk/events/free-business-biscotti-morning
DTSTART;TZID=Europe/London:20110110T100000
DTEND;TZID=Europe/London:20110110T120000
CATEGORIES:biscotti, business_networking_surrey, free
LOCATION:Wentworth Club GU25 4LS
WEBSITE:http://www.wentworthclub.com/
URL:http://www.wentworthclub.com/
CONTACT:
ORGANIZER:Tina Williams & Martin Horswood
ATTACH;FMTTYPE="image/jpeg":http://storage.ning.com/topology/rest/1.0/
 file/get/2591386525?profile=original
ATTENDEE;ROLE=REQ-PARTICIPANT;PARTSTAT=ACCEPTED;RSVP=TRUE;CN="Sarah Ma
 rtin":https://networkinginsurrey.co.uk/profile/SarahMartin
ATTENDEE;ROLE=REQ-PARTICIPANT;PARTSTAT=ACCEPTED;RSVP=TRUE;CN="Kenn Jor
 dan":https://networkinginsurrey.co.uk/profile/KennJordan
ATTENDEE;ROLE=REQ-PARTICIPANT;PARTSTAT=ACCEPTED;RSVP=TRUE;CN="Karen St
 one":https://networkinginsurrey.co.uk/profile/KarenStone
ATTENDEE;ROLE=REQ-PARTICIPANT;PARTSTAT=ACCEPTED;RSVP=TRUE;CN="Dean Fau
 lkner":https://networkinginsurrey.co.uk/profile/DeanFaulkner
ATTENDEE;ROLE=REQ-PARTICIPANT;PARTSTAT=ACCEPTED;RSVP=TRUE;CN="Keith Gr
 over, NiS Founder":https://networkinginsurrey.co.uk/profile/KeithGrove
 r
END:VEVENT
END:VCALENDAR
