BEGIN:VCALENDAR
PRODID:NingEventWidget-v1
VERSION:2.0
METHOD:PUBLISH
BEGIN:VTIMEZONE
TZID:Europe/London
X-LIC-LOCATION:Europe/London
BEGIN:DAYLIGHT
TZOFFSETFROM:+0000
TZOFFSETTO:+0100
TZNAME:BST
DTSTART:19700329T010000
RRULE:FREQ=YEARLY;BYMONTH=3;BYDAY=-1SU
END:DAYLIGHT
BEGIN:STANDARD
TZOFFSETFROM:+0100
TZOFFSETTO:+0000
TZNAME:GMT
DTSTART:19701025T020000
RRULE:FREQ=YEARLY;BYMONTH=10;BYDAY=-1SU
END:STANDARD
END:VTIMEZONE
BEGIN:VEVENT
UID:4626108:Event:67962
DTSTAMP:20260422T070314Z
SUMMARY:Business Biscotti Morning, Farnham Xmas Mince Pies!!
DESCRIPTION:Business Biscotti at the Princess Royal!\n\nDon't miss our
  special December Christmas Farnham Biscotti with FREE Mince Pies!  
  \n\nThis is a popular and expanding group that meets the 1st Wednesd
 ay of each month at the the Princess Royal, Runfold, Farnham.\nBusines
 s Biscotti is what networking is all about – meeting and forming bus
 iness relationships with like minded people.\nOur philosophy is about 
 building relationships and these regular meetings offer a relaxed way 
 to meet other local businesses without commitment to an annual members
 hip. No need to pre-book, just turn up on the day. We look forward to 
 seeing you there.\nCOST: FREE to attend - just pay £3 for unlimited 
 tea and coffee\nBOOKING- No need to book - just show up at any time du
 ring the session, as there's no formality or rules...\nMAP\n\nFor more
  information visit https://networkinginsurrey.co.uk/events/free-busine
 ss-biscotti-morning-farnham
DTSTART;TZID=Europe/London:20141203T100000
DTEND;TZID=Europe/London:20141203T120000
CATEGORIES:farnham, free, morning, business_biscotti
LOCATION:Princess Royal GU10 1EX
WEBSITE:https://www.google.co.uk/maps/place/Farnham,+Surrey+GU10+1NX/@
 51.2203471,-0.7643299,16z/data=!3m1!4b1!4m2!3m1!1s0x48742cd8db4fa107:0
 x23ca68f265ac4656
URL:https://www.google.co.uk/maps/place/Farnham,+Surrey+GU10+1NX/@51.2
 203471,-0.7643299,16z/data=!3m1!4b1!4m2!3m1!1s0x48742cd8db4fa107:0x23c
 a68f265ac4656
CONTACT:
ORGANIZER;CN="Katie Shorrock":https://networkinginsurrey.co.uk/profile
 /KatieShorrock
ATTACH;FMTTYPE="image/jpeg":http://storage.ning.com/topology/rest/1.0/
 file/get/2591432696?profile=original
ATTENDEE;ROLE=REQ-PARTICIPANT;PARTSTAT=ACCEPTED;RSVP=TRUE;CN="Katie Sh
 orrock":https://networkinginsurrey.co.uk/profile/KatieShorrock
END:VEVENT
END:VCALENDAR
