BEGIN:VCALENDAR
PRODID:NingEventWidget-v1
VERSION:2.0
METHOD:PUBLISH
BEGIN:VTIMEZONE
TZID:Europe/London
X-LIC-LOCATION:Europe/London
BEGIN:DAYLIGHT
TZOFFSETFROM:+0000
TZOFFSETTO:+0100
TZNAME:BST
DTSTART:19700329T010000
RRULE:FREQ=YEARLY;BYMONTH=3;BYDAY=-1SU
END:DAYLIGHT
BEGIN:STANDARD
TZOFFSETFROM:+0100
TZOFFSETTO:+0000
TZNAME:GMT
DTSTART:19701025T020000
RRULE:FREQ=YEARLY;BYMONTH=10;BYDAY=-1SU
END:STANDARD
END:VTIMEZONE
BEGIN:VEVENT
UID:4626108:Event:69383
DTSTAMP:20260421T023800Z
SUMMARY:Business Biscotti Morning, Coulsdon
DESCRIPTION:Business Biscotti Morning at Coulsdon Manor Hotel & Golf C
 lub\n Business Biscotti Coulsdonmeets the 4th Wednesday of each month 
 at the Coulsdon Manor Hotel & Golf Club, Old Coulsdon between 09:30 an
 d 11:30. The event itself is free for Biscotti Members and Â£2 for Vis
 tors and there is a small charge to cover unlimited refills of your te
 a or coffee cup.\nBusiness Biscotti is now an established networking f
 ormat, with venues and events up and down the country. Once you've bee
 n to one, you pretty much know what to expect at any other event anywh
 ere and anywhen else.\nCome along and meet other businesses like you.Â
  Learn what assistance and skills are out there and what help you can 
 offer to others.\nBOOKINGÂ - No need to book - just show up at any tim
 e during the session, as there's no formality or rules...\nCOST:Â FREE
  to Biscotti Members, Â£2 for Vistors - plus everybody pays just Â£2 f
 or unlimited tea and coffee\nMAP\nParking: There's ample free parking 
 on site but please honour the reserved spaces for club officials.\n\nF
 or more information visit https://networkinginsurrey.co.uk/events/free
 -business-biscotti-morning-coulsdon-2
DTSTART;TZID=Europe/London:20141126T093000
DTEND;TZID=Europe/London:20141126T113000
CATEGORIES:free, morning, biscotti, caterham, coulsdon
LOCATION:Coulsdon Manor Hotel & Golf Club, Coulsdon Court Road, Old Co
 ulsdon, Surrey CR5 2LL
WEBSITE:https://www.google.co.uk/maps/place/Coulsdon+Manor+%26+Golf+Cl
 ub/@51.317293,-0.123162,17z/data=!3m1!4b1!4m2!3m1!1s0x0:0xb04f7e766b15
 8e93
URL:https://www.google.co.uk/maps/place/Coulsdon+Manor+%26+Golf+Club/@
 51.317293,-0.123162,17z/data=!3m1!4b1!4m2!3m1!1s0x0:0xb04f7e766b158e93
CONTACT:
ORGANIZER;CN="Alan Rogers":https://networkinginsurrey.co.uk/profile/Dr
 eamGeniusLtd
ATTACH;FMTTYPE="image/jpeg":http://storage.ning.com/topology/rest/1.0/
 file/get/2591391145?profile=original
ATTENDEE;ROLE=REQ-PARTICIPANT;PARTSTAT=ACCEPTED;RSVP=TRUE;CN="Alan Rog
 ers":https://networkinginsurrey.co.uk/profile/DreamGeniusLtd
END:VEVENT
END:VCALENDAR
