BEGIN:VCALENDAR
PRODID:NingEventWidget-v1
VERSION:2.0
METHOD:PUBLISH
BEGIN:VTIMEZONE
TZID:Europe/London
X-LIC-LOCATION:Europe/London
BEGIN:DAYLIGHT
TZOFFSETFROM:+0000
TZOFFSETTO:+0100
TZNAME:BST
DTSTART:19700329T010000
RRULE:FREQ=YEARLY;BYMONTH=3;BYDAY=-1SU
END:DAYLIGHT
BEGIN:STANDARD
TZOFFSETFROM:+0100
TZOFFSETTO:+0000
TZNAME:GMT
DTSTART:19701025T020000
RRULE:FREQ=YEARLY;BYMONTH=10;BYDAY=-1SU
END:STANDARD
END:VTIMEZONE
BEGIN:VEVENT
UID:4626108:Event:21403
DTSTAMP:20260424T051145Z
SUMMARY:FREE Business Biscotti Morning, Cobham
DESCRIPTION:Business Biscotti Cobham at the NY Bar & Grill\n\nNetworki
 ng with Business Biscotti is different!\nWe want people to enter into 
 meaningful business relationships and gain business, but also to put s
 omething back by participating and contributing to the Community, for 
 the benefit of all of us.\nBusiness Biscotti is different from other n
 etworking organisations – as its philosophy is to SUPPORT neighbourh
 ood marketing principles; ie to think globally but to do business loca
 lly.\nBOOKING - No need to book - just show up at any time during the 
 session, as there's no formality or rules...\nCOST FREE to attend - ju
 st pay £3 for unlimited tea and coffee\nCobham & Esher Biscotti is ho
 sted by NiS Members Tessa Hood and Charlotte Grant\nMAP  Please ignor
 e parking warnings - NY Bar & Grill patrons are welcome to park\nVENUE
 \n\nFor more information visit https://networkinginsurrey.co.uk/events
 /free-business-biscotti-morning-4
DTSTART;TZID=Europe/London:20110607T100000
DTEND;TZID=Europe/London:20110607T120000
CATEGORIES:biscotti, business_networking_surrey, free, cobham
LOCATION:NY Bar & Grill  KT11 1HY
WEBSITE:http://www.businessbiscotti.co.uk/events-diary/details/1200-co
 bham-esher-biscotti.html
URL:http://www.businessbiscotti.co.uk/events-diary/details/1200-cobham
 -esher-biscotti.html
CONTACT:
ORGANIZER;CN="Keith Grover, NiS Founder":https://networkinginsurrey.co
 .uk/profile/KeithGrover
ATTACH;FMTTYPE="image/jpeg":http://storage.ning.com/topology/rest/1.0/
 file/get/2591392328?profile=original
ATTENDEE;ROLE=REQ-PARTICIPANT;PARTSTAT=ACCEPTED;RSVP=TRUE;CN="Keith Gr
 over, NiS Founder":https://networkinginsurrey.co.uk/profile/KeithGrove
 r
END:VEVENT
END:VCALENDAR
