BEGIN:VCALENDAR
PRODID:NingEventWidget-v1
VERSION:2.0
METHOD:PUBLISH
BEGIN:VTIMEZONE
TZID:Europe/London
X-LIC-LOCATION:Europe/London
BEGIN:DAYLIGHT
TZOFFSETFROM:+0000
TZOFFSETTO:+0100
TZNAME:BST
DTSTART:19700329T010000
RRULE:FREQ=YEARLY;BYMONTH=3;BYDAY=-1SU
END:DAYLIGHT
BEGIN:STANDARD
TZOFFSETFROM:+0100
TZOFFSETTO:+0000
TZNAME:GMT
DTSTART:19701025T020000
RRULE:FREQ=YEARLY;BYMONTH=10;BYDAY=-1SU
END:STANDARD
END:VTIMEZONE
BEGIN:VEVENT
UID:4626108:Event:8902
DTSTAMP:20260422T131105Z
SUMMARY:FREE Business Biscotti Morning - Caterham
DESCRIPTION:﻿﻿\n \n\n \nBusiness Biscotti is what networking is
  all about – meeting and forming business relationships with like-mi
 nded people. We like to think we provide an antidote to formal network
 ing. At Biscotti you’ll find: It’s free! Informal networking for a
 ll You can come and go when you like Just buy yourself a cup of tea, c
 offee etc There are no limits on who can attend: all professions and a
 ny number of the same, and both men & women are welcome We feel that o
 pen networking allows you to forge the relationships you need to do bu
 siness with each other. You make the contacts, we provide the environm
 ent. Arrive at any time between 9.00am and 11.00am and leave at your 
 leisure. Because there is no formal start, finish or set agenda you ca
 n make it work for you.It’s all about relationships and trust – bu
 ilding both takes time and effort but the rewards are limitless. At Bu
 siness Biscotti we are passionate about true networking. Not just maki
 ng lots of contacts and filling up your business card box, anyone can 
 do that. It’s about communication, trust and building relationships 
 that lead to lasting and mutually rewarding business.So put the date i
 n your diary – please come along and bring anyone you think will ben
 efit. Just dip in and out as you please. The meeting and the philosoph
 y are simple; if you want to network, make contacts and forge business
  relationships in an informal environment try Business Biscotti.\n\nFo
 r more information visit https://networkinginsurrey.co.uk/events/free-
 business-biscotti-morning-3
DTSTART;TZID=Europe/London:20110323T090000
DTEND;TZID=Europe/London:20110323T110000
CATEGORIES:networking, free, business, biscotti, caterham, surrey
LOCATION:Bronzeoak Business Centre
WEBSITE:http://bronzeoakbusinesscentre.co.uk/find_us.php
URL:http://bronzeoakbusinesscentre.co.uk/find_us.php
CONTACT:01883 332 600
ORGANIZER;CN="Lyn French":https://networkinginsurrey.co.uk/profile/Lyn
 French
ATTACH;FMTTYPE="image/jpeg":http://storage.ning.com/topology/rest/1.0/
 file/get/2591392696?profile=original
ATTENDEE;ROLE=REQ-PARTICIPANT;PARTSTAT=ACCEPTED;RSVP=TRUE;CN="Wendy Ag
 er":https://networkinginsurrey.co.uk/profile/WendyAger
ATTENDEE;ROLE=REQ-PARTICIPANT;PARTSTAT=ACCEPTED;RSVP=TRUE;CN="Karen Pu
 rves":https://networkinginsurrey.co.uk/profile/KarenPurves
ATTENDEE;ROLE=REQ-PARTICIPANT;PARTSTAT=ACCEPTED;RSVP=TRUE;CN="Lyn Fren
 ch":https://networkinginsurrey.co.uk/profile/LynFrench
END:VEVENT
END:VCALENDAR
