BEGIN:VCALENDAR
PRODID:NingEventWidget-v1
VERSION:2.0
METHOD:PUBLISH
BEGIN:VTIMEZONE
TZID:Europe/London
X-LIC-LOCATION:Europe/London
BEGIN:DAYLIGHT
TZOFFSETFROM:+0000
TZOFFSETTO:+0100
TZNAME:BST
DTSTART:19700329T010000
RRULE:FREQ=YEARLY;BYMONTH=3;BYDAY=-1SU
END:DAYLIGHT
BEGIN:STANDARD
TZOFFSETFROM:+0100
TZOFFSETTO:+0000
TZNAME:GMT
DTSTART:19701025T020000
RRULE:FREQ=YEARLY;BYMONTH=10;BYDAY=-1SU
END:STANDARD
END:VTIMEZONE
BEGIN:VEVENT
UID:4626108:Event:5555
DTSTAMP:20260423T184051Z
SUMMARY:FREE Business Biscotti Morning - Caterham
DESCRIPTION:Business Biscotti Networking at the Bronzeoak Business Cen
 tre\n\n\nBusiness Biscotti is what networking is all about â€“ meeting
  and forming business relationships with like-minded people. We like t
 o think we provide an antidote to formal networking. At Biscotti youâ€
 ™ll find: Itâ€™s free! Informal networking for all You can come and go
  when you like Just buy yourself a cup of tea, coffee etc There are no
  limits on who can attend: all professions and any number of the same,
  and both men & women are welcome We feel that open networking allows 
 you to forge the relationships you need to do business with each other
 . You make the contacts, we provide the environment.\n\nArrive at any 
 time between 9.00am and 11.00am and leave at your leisure. Because the
 re is no formal start, finish or set agenda you can make it work for y
 ou.\n\nItâ€™s all about relationships and trust â€“ building both take
 s time and effort but the rewards are limitless. At Business Biscotti 
 we are passionate about true networking. Not just making lots of conta
 cts and filling up your business card box, anyone can do that. Itâ€™s 
 about communication, trust and building relationships that lead to las
 ting and mutually rewarding business.\n\nSo put the date in your diary
  â€“ please come along and bring anyone you think will benefit. Just d
 ip in and out as you please. The meeting and the philosophy are simple
 ; if you want to network, make contacts and forge business relationshi
 ps in an informal environment try Business Biscotti.\n\n\nMAP\n\nCater
 ham Business Biscotti is run by NiS Member Lyn French of www.findgoodc
 ustomerservice.com. Other Biscotti groups run by NiS Members are Wentw
 orth (Tina Williams) and Wokingham (Peter Morris).\n\n\n--------------
 --------------\nBusiness Biscotti has grown into a community of busine
 ss people who now provide support, guidance, help and trading opportun
 ities for one another. We have many groups, more are starting all the 
 time, and an Online Community - www.businessbiscotti.co.uk\n\nFor more
  information visit https://networkinginsurrey.co.uk/events/free-busine
 ss-biscotti-morning-1
DTSTART;TZID=Europe/London:20101124T090000
DTEND;TZID=Europe/London:20101124T110000
CATEGORIES:free, caterham, business_biscotti, business_networking_surr
 ey
LOCATION:Bronzeoak Business Centre, Stafford Road, Caterham, Surrey
WEBSITE:http://bronzeoakbusinesscentre.co.uk/find_us.php
URL:http://bronzeoakbusinesscentre.co.uk/find_us.php
CONTACT:01883 332 600
ORGANIZER:Lyn French and Darren Wannell
ATTACH;FMTTYPE="image/jpeg":http://storage.ning.com/topology/rest/1.0/
 file/get/2591388718?profile=original
ATTENDEE;ROLE=REQ-PARTICIPANT;PARTSTAT=ACCEPTED;RSVP=TRUE;CN="Alan Rog
 ers":https://networkinginsurrey.co.uk/profile/DreamGeniusLtd
ATTENDEE;ROLE=REQ-PARTICIPANT;PARTSTAT=ACCEPTED;RSVP=TRUE;CN="Lyn Fren
 ch":https://networkinginsurrey.co.uk/profile/LynFrench
END:VEVENT
END:VCALENDAR
