BEGIN:VCALENDAR
PRODID:NingEventWidget-v1
VERSION:2.0
METHOD:PUBLISH
BEGIN:VTIMEZONE
TZID:Europe/London
X-LIC-LOCATION:Europe/London
BEGIN:DAYLIGHT
TZOFFSETFROM:+0000
TZOFFSETTO:+0100
TZNAME:BST
DTSTART:19700329T010000
RRULE:FREQ=YEARLY;BYMONTH=3;BYDAY=-1SU
END:DAYLIGHT
BEGIN:STANDARD
TZOFFSETFROM:+0100
TZOFFSETTO:+0000
TZNAME:GMT
DTSTART:19701025T020000
RRULE:FREQ=YEARLY;BYMONTH=10;BYDAY=-1SU
END:STANDARD
END:VTIMEZONE
BEGIN:VEVENT
UID:4626108:Event:38006
DTSTAMP:20260421T191728Z
SUMMARY:FREE FSB Networking Breakfast, Cobham
DESCRIPTION:Low Emission Zone Updates at Dagenham Motors\nIf you drive
  into London you need to be at this event which will explain the expan
 sion of the Low Emission Zone from 3rd January 2012.\nThe LEZ emission
 s standards will become more stringent. More vehicles will be affected
 , and those that are already affected will need to meet tighter emissi
 ons standards.\nFord has introduced a scrappage programme to help assi
 st drivers who will need to change their current commercial vehicles.\
 nThis breakfast meeting will explain more about the LEZ and the implic
 ations for companies driving in the zone and to answer your many quest
 ions. In addition an accountant will provide a short presentation on t
 he latest tax treatment of commercial vehicles to enable you to secure
  the best advantages.\nIf you are not affected by the forthcoming LEZ 
 why not just come along and network with other business owners in this
  flagship Ford showroom. You will be provided with tea, coffee, fruit 
 juice, bacon and sausage rolls, croissants as well as checking out the
  latest Ford models - cars and commercial vehicles, for you to book yo
 ur test drive.\nAs if all of this is not enough for one breakfast meet
 ing all delegates will be included in the Ford Motor Co. Annual Christ
 mas Hamper raffle but registration is essential\n\nCOST: FREE TO ATTE
 ND\n\nBOOKING: PLEASE REGISTER HERE \n\n MAP\n\n \n\nFor more infor
 mation visit https://networkinginsurrey.co.uk/events/free-breakfast-ne
 tworking
DTSTART;TZID=Europe/London:20111129T080000
DTEND;TZID=Europe/London:20111129T093000
CATEGORIES:networking
LOCATION:Dagenham Motors Showroom KT11 1JJ
WEBSITE:http://fsbford2.eventbrite.co.uk/
URL:http://fsbford2.eventbrite.co.uk/
CONTACT:01403 734257
ORGANIZER;CN="Sharon Bryant":https://networkinginsurrey.co.uk/profile/
 SharonBryant
ATTACH;FMTTYPE="image/jpeg":http://storage.ning.com/topology/rest/1.0/
 file/get/2591396369?profile=original
ATTENDEE;ROLE=REQ-PARTICIPANT;PARTSTAT=ACCEPTED;RSVP=TRUE;CN="Sharon B
 ryant":https://networkinginsurrey.co.uk/profile/SharonBryant
END:VEVENT
END:VCALENDAR
