BEGIN:VCALENDAR
PRODID:NingEventWidget-v1
VERSION:2.0
METHOD:PUBLISH
BEGIN:VTIMEZONE
TZID:Europe/London
X-LIC-LOCATION:Europe/London
BEGIN:DAYLIGHT
TZOFFSETFROM:+0000
TZOFFSETTO:+0100
TZNAME:BST
DTSTART:19700329T010000
RRULE:FREQ=YEARLY;BYMONTH=3;BYDAY=-1SU
END:DAYLIGHT
BEGIN:STANDARD
TZOFFSETFROM:+0100
TZOFFSETTO:+0000
TZNAME:GMT
DTSTART:19701025T020000
RRULE:FREQ=YEARLY;BYMONTH=10;BYDAY=-1SU
END:STANDARD
END:VTIMEZONE
BEGIN:VEVENT
UID:4626108:Event:225914
DTSTAMP:20260423T062644Z
SUMMARY:FREE BRAVO Networking Morning, Betchworth
DESCRIPTION:FREE BRAVO Networking Morning at the Red Lion \r\n\r\nCome
  and join us for some FREE networking in the beautiful setting of the 
 Red Lion pub!  \r\nThe event is free to attend, with coffee and tea 
 available to purchase on the day. There will be open networking and a 
 chance to introduce yourself to everyone in a quick business pitch. \
 r\nCome and join us for a relaxed, friendly networking session at thi
 s true English Pub with a twist! \r\nCOST: FREE - buy your own refre
 shments at the bar\r\nBOOKING: Please CLICK HERE to book your free p
 lace\r\nMAP\n\nFor more information visit https://networkinginsurrey.c
 o.uk/events/free-bravo-networking-morning-betchworth
DTSTART;TZID=Europe/London:20190926T100000
DTEND;TZID=Europe/London:20190926T120000
CATEGORIES:bravo_networking, morning, free, betchworth
LOCATION:The Red Lion pub and cellar room RH3 7DS
WEBSITE:https://www.google.com/maps/dir//red+lion+betchworth/data=!4m6
 !4m5!1m1!4e2!1m2!1m1!1s0x4875e43d0df1a12d:0x84894d6ba594166e?sa=X&amp;
 amp;amp;amp;amp;amp;amp;amp;amp;ved=2ahUKEwjA6LjN-LHiAhWOWhUIHbj4D_4Q9
 RcwC3oECBAQEA
URL:https://www.google.com/maps/dir//red+lion+betchworth/data=!4m6!4m5
 !1m1!4e2!1m2!1m1!1s0x4875e43d0df1a12d:0x84894d6ba594166e?sa=X&amp;amp;
 amp;amp;amp;amp;amp;amp;amp;ved=2ahUKEwjA6LjN-LHiAhWOWhUIHbj4D_4Q9RcwC
 3oECBAQEA
CONTACT:07889304460
ORGANIZER:Louise Camby
ATTACH;FMTTYPE="image/jpeg":https://storage.ning.com/topology/rest/1.0
 /file/get/1406115434?profile=original
ATTENDEE;ROLE=REQ-PARTICIPANT;PARTSTAT=ACCEPTED;RSVP=TRUE;CN="Keith Gr
 over, NiS Founder":https://networkinginsurrey.co.uk/profile/KeithGrove
 r
END:VEVENT
END:VCALENDAR
